BEGIN:VCALENDAR
VERSION:2.0
PRODID:-//Sunday Runs with the Leatherman Harriers - ECPv6.15.13//NONSGML v1.0//EN
CALSCALE:GREGORIAN
METHOD:PUBLISH
X-WR-CALNAME:Sunday Runs with the Leatherman Harriers
X-ORIGINAL-URL:https://sundayruns.org
X-WR-CALDESC:Events for Sunday Runs with the Leatherman Harriers
REFRESH-INTERVAL;VALUE=DURATION:PT1H
X-Robots-Tag:noindex
X-PUBLISHED-TTL:PT1H
BEGIN:VTIMEZONE
TZID:America/New_York
BEGIN:DAYLIGHT
TZOFFSETFROM:-0500
TZOFFSETTO:-0400
TZNAME:EDT
DTSTART:20260308T070000
END:DAYLIGHT
BEGIN:STANDARD
TZOFFSETFROM:-0400
TZOFFSETTO:-0500
TZNAME:EST
DTSTART:20261101T060000
END:STANDARD
BEGIN:DAYLIGHT
TZOFFSETFROM:-0500
TZOFFSETTO:-0400
TZNAME:EDT
DTSTART:20270314T070000
END:DAYLIGHT
BEGIN:STANDARD
TZOFFSETFROM:-0400
TZOFFSETTO:-0500
TZNAME:EST
DTSTART:20271107T060000
END:STANDARD
BEGIN:DAYLIGHT
TZOFFSETFROM:-0500
TZOFFSETTO:-0400
TZNAME:EDT
DTSTART:20280312T070000
END:DAYLIGHT
BEGIN:STANDARD
TZOFFSETFROM:-0400
TZOFFSETTO:-0500
TZNAME:EST
DTSTART:20281105T060000
END:STANDARD
END:VTIMEZONE
BEGIN:VEVENT
DTSTART;TZID=America/New_York:20270907T053000
DTEND;TZID=America/New_York:20270907T070000
DTSTAMP:20260426T003851
CREATED:20230529T143510Z
LAST-MODIFIED:20230529T143510Z
UID:33315-1820295000-1820300400@sundayruns.org
SUMMARY:Trail Tuesday
DESCRIPTION:Looking for a mid-week run? Meet at Ward Pound Ridge Reservation\, Michigan Road Lot\, on Tuesdays at 5:30 a.m. for a run finishing up between 7:00 and 7:30. It’s a great way to get your run in early.
URL:https://sundayruns.org/run/trail-tuesday-2-2027-09-07/
LOCATION:Ward Pound Ridge Reservation\, Michigan Road Lot\, Michigan Road\, Pound Ridge\, NY\, 10576\, United States
CATEGORIES:Runs
ATTACH;FMTTYPE=image/jpeg:https://sundayruns.org/wp-content/uploads/2021/10/TrailTuesday2022.jpg
ORGANIZER;CN="Sunday Runs":MAILTO:info@sundayruns.org
END:VEVENT
BEGIN:VEVENT
DTSTART;TZID=America/New_York:20270909T053000
DTEND;TZID=America/New_York:20270909T070000
DTSTAMP:20260426T003851
CREATED:20211015T175155Z
LAST-MODIFIED:20211015T175155Z
UID:33316-1820467800-1820473200@sundayruns.org
SUMMARY:Trail Thursday
DESCRIPTION:Looking for a mid-week run? Meet at Ward Pound Ridge Reservation\, Michigan Road Lot\, on Thursdays at 5:30 a.m. for a run finishing up at 7:00.
URL:https://sundayruns.org/run/trail-thursday-2022-2022-09-22-2023-11-23-2027-09-09/
LOCATION:Ward Pound Ridge Reservation\, Michigan Road Lot\, Michigan Road\, Pound Ridge\, NY\, 10576\, United States
CATEGORIES:Runs
ATTACH;FMTTYPE=image/jpeg:https://sundayruns.org/wp-content/uploads/2021/10/TrailThursday2022.jpg
ORGANIZER;CN="Sunday Runs":MAILTO:info@sundayruns.org
END:VEVENT
BEGIN:VEVENT
DTSTART;TZID=America/New_York:20270914T053000
DTEND;TZID=America/New_York:20270914T070000
DTSTAMP:20260426T003851
CREATED:20230529T143510Z
LAST-MODIFIED:20230529T143510Z
UID:33366-1820899800-1820905200@sundayruns.org
SUMMARY:Trail Tuesday
DESCRIPTION:Looking for a mid-week run? Meet at Ward Pound Ridge Reservation\, Michigan Road Lot\, on Tuesdays at 5:30 a.m. for a run finishing up between 7:00 and 7:30. It’s a great way to get your run in early.
URL:https://sundayruns.org/run/trail-tuesday-2-2027-09-14/
LOCATION:Ward Pound Ridge Reservation\, Michigan Road Lot\, Michigan Road\, Pound Ridge\, NY\, 10576\, United States
CATEGORIES:Runs
ATTACH;FMTTYPE=image/jpeg:https://sundayruns.org/wp-content/uploads/2021/10/TrailTuesday2022.jpg
ORGANIZER;CN="Sunday Runs":MAILTO:info@sundayruns.org
END:VEVENT
BEGIN:VEVENT
DTSTART;TZID=America/New_York:20270916T053000
DTEND;TZID=America/New_York:20270916T070000
DTSTAMP:20260426T003851
CREATED:20211015T175155Z
LAST-MODIFIED:20211015T175155Z
UID:33367-1821072600-1821078000@sundayruns.org
SUMMARY:Trail Thursday
DESCRIPTION:Looking for a mid-week run? Meet at Ward Pound Ridge Reservation\, Michigan Road Lot\, on Thursdays at 5:30 a.m. for a run finishing up at 7:00.
URL:https://sundayruns.org/run/trail-thursday-2022-2022-09-22-2023-11-23-2027-09-16/
LOCATION:Ward Pound Ridge Reservation\, Michigan Road Lot\, Michigan Road\, Pound Ridge\, NY\, 10576\, United States
CATEGORIES:Runs
ATTACH;FMTTYPE=image/jpeg:https://sundayruns.org/wp-content/uploads/2021/10/TrailThursday2022.jpg
ORGANIZER;CN="Sunday Runs":MAILTO:info@sundayruns.org
END:VEVENT
BEGIN:VEVENT
DTSTART;TZID=America/New_York:20270921T053000
DTEND;TZID=America/New_York:20270921T070000
DTSTAMP:20260426T003851
CREATED:20230529T143510Z
LAST-MODIFIED:20230529T143510Z
UID:33382-1821504600-1821510000@sundayruns.org
SUMMARY:Trail Tuesday
DESCRIPTION:Looking for a mid-week run? Meet at Ward Pound Ridge Reservation\, Michigan Road Lot\, on Tuesdays at 5:30 a.m. for a run finishing up between 7:00 and 7:30. It’s a great way to get your run in early.
URL:https://sundayruns.org/run/trail-tuesday-2-2027-09-21/
LOCATION:Ward Pound Ridge Reservation\, Michigan Road Lot\, Michigan Road\, Pound Ridge\, NY\, 10576\, United States
CATEGORIES:Runs
ATTACH;FMTTYPE=image/jpeg:https://sundayruns.org/wp-content/uploads/2021/10/TrailTuesday2022.jpg
ORGANIZER;CN="Sunday Runs":MAILTO:info@sundayruns.org
END:VEVENT
BEGIN:VEVENT
DTSTART;TZID=America/New_York:20270923T053000
DTEND;TZID=America/New_York:20270923T070000
DTSTAMP:20260426T003851
CREATED:20211015T175155Z
LAST-MODIFIED:20211015T175155Z
UID:33383-1821677400-1821682800@sundayruns.org
SUMMARY:Trail Thursday
DESCRIPTION:Looking for a mid-week run? Meet at Ward Pound Ridge Reservation\, Michigan Road Lot\, on Thursdays at 5:30 a.m. for a run finishing up at 7:00.
URL:https://sundayruns.org/run/trail-thursday-2022-2022-09-22-2023-11-23-2027-09-23/
LOCATION:Ward Pound Ridge Reservation\, Michigan Road Lot\, Michigan Road\, Pound Ridge\, NY\, 10576\, United States
CATEGORIES:Runs
ATTACH;FMTTYPE=image/jpeg:https://sundayruns.org/wp-content/uploads/2021/10/TrailThursday2022.jpg
ORGANIZER;CN="Sunday Runs":MAILTO:info@sundayruns.org
END:VEVENT
BEGIN:VEVENT
DTSTART;TZID=America/New_York:20270928T053000
DTEND;TZID=America/New_York:20270928T070000
DTSTAMP:20260426T003851
CREATED:20230529T143510Z
LAST-MODIFIED:20230529T143510Z
UID:33394-1822109400-1822114800@sundayruns.org
SUMMARY:Trail Tuesday
DESCRIPTION:Looking for a mid-week run? Meet at Ward Pound Ridge Reservation\, Michigan Road Lot\, on Tuesdays at 5:30 a.m. for a run finishing up between 7:00 and 7:30. It’s a great way to get your run in early.
URL:https://sundayruns.org/run/trail-tuesday-2-2027-09-28/
LOCATION:Ward Pound Ridge Reservation\, Michigan Road Lot\, Michigan Road\, Pound Ridge\, NY\, 10576\, United States
CATEGORIES:Runs
ATTACH;FMTTYPE=image/jpeg:https://sundayruns.org/wp-content/uploads/2021/10/TrailTuesday2022.jpg
ORGANIZER;CN="Sunday Runs":MAILTO:info@sundayruns.org
END:VEVENT
BEGIN:VEVENT
DTSTART;TZID=America/New_York:20270930T053000
DTEND;TZID=America/New_York:20270930T070000
DTSTAMP:20260426T003851
CREATED:20211015T175155Z
LAST-MODIFIED:20211015T175155Z
UID:33395-1822282200-1822287600@sundayruns.org
SUMMARY:Trail Thursday
DESCRIPTION:Looking for a mid-week run? Meet at Ward Pound Ridge Reservation\, Michigan Road Lot\, on Thursdays at 5:30 a.m. for a run finishing up at 7:00.
URL:https://sundayruns.org/run/trail-thursday-2022-2022-09-22-2023-11-23-2027-09-30/
LOCATION:Ward Pound Ridge Reservation\, Michigan Road Lot\, Michigan Road\, Pound Ridge\, NY\, 10576\, United States
CATEGORIES:Runs
ATTACH;FMTTYPE=image/jpeg:https://sundayruns.org/wp-content/uploads/2021/10/TrailThursday2022.jpg
ORGANIZER;CN="Sunday Runs":MAILTO:info@sundayruns.org
END:VEVENT
BEGIN:VEVENT
DTSTART;TZID=America/New_York:20271005T053000
DTEND;TZID=America/New_York:20271005T070000
DTSTAMP:20260426T003851
CREATED:20230529T143510Z
LAST-MODIFIED:20230529T143510Z
UID:33419-1822714200-1822719600@sundayruns.org
SUMMARY:Trail Tuesday
DESCRIPTION:Looking for a mid-week run? Meet at Ward Pound Ridge Reservation\, Michigan Road Lot\, on Tuesdays at 5:30 a.m. for a run finishing up between 7:00 and 7:30. It’s a great way to get your run in early.
URL:https://sundayruns.org/run/trail-tuesday-2-2027-10-05/
LOCATION:Ward Pound Ridge Reservation\, Michigan Road Lot\, Michigan Road\, Pound Ridge\, NY\, 10576\, United States
CATEGORIES:Runs
ATTACH;FMTTYPE=image/jpeg:https://sundayruns.org/wp-content/uploads/2021/10/TrailTuesday2022.jpg
ORGANIZER;CN="Sunday Runs":MAILTO:info@sundayruns.org
END:VEVENT
BEGIN:VEVENT
DTSTART;TZID=America/New_York:20271007T053000
DTEND;TZID=America/New_York:20271007T070000
DTSTAMP:20260426T003851
CREATED:20211015T175155Z
LAST-MODIFIED:20211015T175155Z
UID:33424-1822887000-1822892400@sundayruns.org
SUMMARY:Trail Thursday
DESCRIPTION:Looking for a mid-week run? Meet at Ward Pound Ridge Reservation\, Michigan Road Lot\, on Thursdays at 5:30 a.m. for a run finishing up at 7:00.
URL:https://sundayruns.org/run/trail-thursday-2022-2022-09-22-2023-11-23-2027-10-07/
LOCATION:Ward Pound Ridge Reservation\, Michigan Road Lot\, Michigan Road\, Pound Ridge\, NY\, 10576\, United States
CATEGORIES:Runs
ATTACH;FMTTYPE=image/jpeg:https://sundayruns.org/wp-content/uploads/2021/10/TrailThursday2022.jpg
ORGANIZER;CN="Sunday Runs":MAILTO:info@sundayruns.org
END:VEVENT
BEGIN:VEVENT
DTSTART;TZID=America/New_York:20271012T053000
DTEND;TZID=America/New_York:20271012T070000
DTSTAMP:20260426T003851
CREATED:20230529T143510Z
LAST-MODIFIED:20230529T143510Z
UID:33425-1823319000-1823324400@sundayruns.org
SUMMARY:Trail Tuesday
DESCRIPTION:Looking for a mid-week run? Meet at Ward Pound Ridge Reservation\, Michigan Road Lot\, on Tuesdays at 5:30 a.m. for a run finishing up between 7:00 and 7:30. It’s a great way to get your run in early.
URL:https://sundayruns.org/run/trail-tuesday-2-2027-10-12/
LOCATION:Ward Pound Ridge Reservation\, Michigan Road Lot\, Michigan Road\, Pound Ridge\, NY\, 10576\, United States
CATEGORIES:Runs
ATTACH;FMTTYPE=image/jpeg:https://sundayruns.org/wp-content/uploads/2021/10/TrailTuesday2022.jpg
ORGANIZER;CN="Sunday Runs":MAILTO:info@sundayruns.org
END:VEVENT
BEGIN:VEVENT
DTSTART;TZID=America/New_York:20271014T053000
DTEND;TZID=America/New_York:20271014T070000
DTSTAMP:20260426T003851
CREATED:20211015T175155Z
LAST-MODIFIED:20211015T175155Z
UID:33426-1823491800-1823497200@sundayruns.org
SUMMARY:Trail Thursday
DESCRIPTION:Looking for a mid-week run? Meet at Ward Pound Ridge Reservation\, Michigan Road Lot\, on Thursdays at 5:30 a.m. for a run finishing up at 7:00.
URL:https://sundayruns.org/run/trail-thursday-2022-2022-09-22-2023-11-23-2027-10-14/
LOCATION:Ward Pound Ridge Reservation\, Michigan Road Lot\, Michigan Road\, Pound Ridge\, NY\, 10576\, United States
CATEGORIES:Runs
ATTACH;FMTTYPE=image/jpeg:https://sundayruns.org/wp-content/uploads/2021/10/TrailThursday2022.jpg
ORGANIZER;CN="Sunday Runs":MAILTO:info@sundayruns.org
END:VEVENT
BEGIN:VEVENT
DTSTART;TZID=America/New_York:20271019T053000
DTEND;TZID=America/New_York:20271019T070000
DTSTAMP:20260426T003851
CREATED:20230529T143510Z
LAST-MODIFIED:20230529T143510Z
UID:33433-1823923800-1823929200@sundayruns.org
SUMMARY:Trail Tuesday
DESCRIPTION:Looking for a mid-week run? Meet at Ward Pound Ridge Reservation\, Michigan Road Lot\, on Tuesdays at 5:30 a.m. for a run finishing up between 7:00 and 7:30. It’s a great way to get your run in early.
URL:https://sundayruns.org/run/trail-tuesday-2-2027-10-19/
LOCATION:Ward Pound Ridge Reservation\, Michigan Road Lot\, Michigan Road\, Pound Ridge\, NY\, 10576\, United States
CATEGORIES:Runs
ATTACH;FMTTYPE=image/jpeg:https://sundayruns.org/wp-content/uploads/2021/10/TrailTuesday2022.jpg
ORGANIZER;CN="Sunday Runs":MAILTO:info@sundayruns.org
END:VEVENT
BEGIN:VEVENT
DTSTART;TZID=America/New_York:20271021T053000
DTEND;TZID=America/New_York:20271021T070000
DTSTAMP:20260426T003851
CREATED:20211015T175155Z
LAST-MODIFIED:20211015T175155Z
UID:33434-1824096600-1824102000@sundayruns.org
SUMMARY:Trail Thursday
DESCRIPTION:Looking for a mid-week run? Meet at Ward Pound Ridge Reservation\, Michigan Road Lot\, on Thursdays at 5:30 a.m. for a run finishing up at 7:00.
URL:https://sundayruns.org/run/trail-thursday-2022-2022-09-22-2023-11-23-2027-10-21/
LOCATION:Ward Pound Ridge Reservation\, Michigan Road Lot\, Michigan Road\, Pound Ridge\, NY\, 10576\, United States
CATEGORIES:Runs
ATTACH;FMTTYPE=image/jpeg:https://sundayruns.org/wp-content/uploads/2021/10/TrailThursday2022.jpg
ORGANIZER;CN="Sunday Runs":MAILTO:info@sundayruns.org
END:VEVENT
BEGIN:VEVENT
DTSTART;TZID=America/New_York:20271026T053000
DTEND;TZID=America/New_York:20271026T070000
DTSTAMP:20260426T003851
CREATED:20230529T143510Z
LAST-MODIFIED:20230529T143510Z
UID:33439-1824528600-1824534000@sundayruns.org
SUMMARY:Trail Tuesday
DESCRIPTION:Looking for a mid-week run? Meet at Ward Pound Ridge Reservation\, Michigan Road Lot\, on Tuesdays at 5:30 a.m. for a run finishing up between 7:00 and 7:30. It’s a great way to get your run in early.
URL:https://sundayruns.org/run/trail-tuesday-2-2027-10-26/
LOCATION:Ward Pound Ridge Reservation\, Michigan Road Lot\, Michigan Road\, Pound Ridge\, NY\, 10576\, United States
CATEGORIES:Runs
ATTACH;FMTTYPE=image/jpeg:https://sundayruns.org/wp-content/uploads/2021/10/TrailTuesday2022.jpg
ORGANIZER;CN="Sunday Runs":MAILTO:info@sundayruns.org
END:VEVENT
BEGIN:VEVENT
DTSTART;TZID=America/New_York:20271028T053000
DTEND;TZID=America/New_York:20271028T070000
DTSTAMP:20260426T003851
CREATED:20211015T175155Z
LAST-MODIFIED:20211015T175155Z
UID:33458-1824701400-1824706800@sundayruns.org
SUMMARY:Trail Thursday
DESCRIPTION:Looking for a mid-week run? Meet at Ward Pound Ridge Reservation\, Michigan Road Lot\, on Thursdays at 5:30 a.m. for a run finishing up at 7:00.
URL:https://sundayruns.org/run/trail-thursday-2022-2022-09-22-2023-11-23-2027-10-28/
LOCATION:Ward Pound Ridge Reservation\, Michigan Road Lot\, Michigan Road\, Pound Ridge\, NY\, 10576\, United States
CATEGORIES:Runs
ATTACH;FMTTYPE=image/jpeg:https://sundayruns.org/wp-content/uploads/2021/10/TrailThursday2022.jpg
ORGANIZER;CN="Sunday Runs":MAILTO:info@sundayruns.org
END:VEVENT
BEGIN:VEVENT
DTSTART;TZID=America/New_York:20271102T053000
DTEND;TZID=America/New_York:20271102T070000
DTSTAMP:20260426T003851
CREATED:20230529T143510Z
LAST-MODIFIED:20230529T143510Z
UID:33468-1825133400-1825138800@sundayruns.org
SUMMARY:Trail Tuesday
DESCRIPTION:Looking for a mid-week run? Meet at Ward Pound Ridge Reservation\, Michigan Road Lot\, on Tuesdays at 5:30 a.m. for a run finishing up between 7:00 and 7:30. It’s a great way to get your run in early.
URL:https://sundayruns.org/run/trail-tuesday-2-2027-11-02/
LOCATION:Ward Pound Ridge Reservation\, Michigan Road Lot\, Michigan Road\, Pound Ridge\, NY\, 10576\, United States
CATEGORIES:Runs
ATTACH;FMTTYPE=image/jpeg:https://sundayruns.org/wp-content/uploads/2021/10/TrailTuesday2022.jpg
ORGANIZER;CN="Sunday Runs":MAILTO:info@sundayruns.org
END:VEVENT
END:VCALENDAR