BEGIN:VCALENDAR
VERSION:2.0
PRODID:-//Sunday Runs with the Leatherman Harriers - ECPv6.15.13//NONSGML v1.0//EN
CALSCALE:GREGORIAN
METHOD:PUBLISH
X-ORIGINAL-URL:https://sundayruns.org
X-WR-CALDESC:Events for Sunday Runs with the Leatherman Harriers
REFRESH-INTERVAL;VALUE=DURATION:PT1H
X-Robots-Tag:noindex
X-PUBLISHED-TTL:PT1H
BEGIN:VTIMEZONE
TZID:America/New_York
BEGIN:DAYLIGHT
TZOFFSETFROM:-0500
TZOFFSETTO:-0400
TZNAME:EDT
DTSTART:20250309T070000
END:DAYLIGHT
BEGIN:STANDARD
TZOFFSETFROM:-0400
TZOFFSETTO:-0500
TZNAME:EST
DTSTART:20251102T060000
END:STANDARD
BEGIN:DAYLIGHT
TZOFFSETFROM:-0500
TZOFFSETTO:-0400
TZNAME:EDT
DTSTART:20260308T070000
END:DAYLIGHT
BEGIN:STANDARD
TZOFFSETFROM:-0400
TZOFFSETTO:-0500
TZNAME:EST
DTSTART:20261101T060000
END:STANDARD
BEGIN:DAYLIGHT
TZOFFSETFROM:-0500
TZOFFSETTO:-0400
TZNAME:EDT
DTSTART:20270314T070000
END:DAYLIGHT
BEGIN:STANDARD
TZOFFSETFROM:-0400
TZOFFSETTO:-0500
TZNAME:EST
DTSTART:20271107T060000
END:STANDARD
END:VTIMEZONE
BEGIN:VEVENT
DTSTART;TZID=America/New_York:20260418T070000
DTEND;TZID=America/New_York:20260418T120000
DTSTAMP:20260425T101926
CREATED:20260325T211431Z
LAST-MODIFIED:20260416T174635Z
UID:33977-1776495600-1776513600@sundayruns.org
SUMMARY:Brew to Brews
DESCRIPTION:This Saturday\, April 18\, at 7:00 a.m.\, meet at Tazza Café\, 408 Main St\, Ridgefield\, CT\, and prepare to run the 13 mile Brew to Brews run around the Saugatuck Reservoir. Options include the full run or an abbreviated 6 mile version (if we have enough drivers and vehicles). \n7:00 to 7:30 a.m. Get Some Fresh Brewed\nMeet at Tazza Café\, 408 Main St\, Ridgefield\, CT\, and have a cup of coffee before the run.  \nRun starting at 8:00 a.m.\nWe’ll head over to the Saugatuck Trailhead at 190 Davis Hill Road in Weston and start running at 8:00 a.m. As per Teren’s suggestion\, we’ll run this in a counterclockwise loop\, heading down the road and into Trout Brook first.  \nGet Some Brews\nWe’ll finish around 11:00 and can head over to Nod Hill Brewery (137 Ethan Allan Highway\, Ridgefield). Bring money\, you’ll be thirsty and hungry. \nCan’t make it? No worries. Head over to Michigan Road Lot at 6:00 or 7:00. Someone will be there.  \n\nPrint Map Download the PDF KML File GPX File\n \nLast time we ran this course was May 31\, 2025
URL:https://sundayruns.org/run/brew-to-brews-04-2026/
LOCATION:Saugatuck Trailhead\, 190 Davis Hill Road\, Weston\, CT\, 06883\, United States
CATEGORIES:Runs
ATTACH;FMTTYPE=image/jpeg:https://sundayruns.org/wp-content/uploads/2017/12/BrewtoBrews.jpg
ORGANIZER;CN="Sunday Runs":MAILTO:info@sundayruns.org
END:VEVENT
BEGIN:VEVENT
DTSTART;TZID=America/New_York:20260419T080000
DTEND;TZID=America/New_York:20260419T093000
DTSTAMP:20260425T101926
CREATED:20260325T212212Z
LAST-MODIFIED:20260325T212336Z
UID:33979-1776585600-1776591000@sundayruns.org
SUMMARY:Meadow Museum Fire Tower to Michigan
DESCRIPTION:On Sunday\, April 19\, at 8:00 a.m.\, meet at Ward Pound Ridge Reservation\, Meadow Lot\, when we run the Meadow Museum\, Fire Tower\, to Michigan loop. We’ll run this in a clockwise direction as marked and runners have the opportunity to run distances from 5 to 8.5 miles. Cobweb Crew starts at 5:00; Early Risers at 7:00. \nRookie Runners start at 7:00 for a shorter course and easier pace.\nWalkers/Hikers start at 8:00 for a short loop. \n\nPrint Map Download the PDF\n \nFrom the archives: Last time we ran this course was April 20\, 2025
URL:https://sundayruns.org/run/meadow-museum-fire-tower-to-michigan-04-2026/
LOCATION:Ward Pound Ridge Reservation\, Meadow Lot\, Reservation Road\, Pound Ridge\, NY\, 10576\, United States
CATEGORIES:Runs
ATTACH;FMTTYPE=image/jpeg:https://sundayruns.org/wp-content/uploads/2019/04/meadowtomichigan4.jpg
ORGANIZER;CN="Sunday Runs":MAILTO:info@sundayruns.org
END:VEVENT
BEGIN:VEVENT
DTSTART;TZID=America/New_York:20260419T120000
DTEND;TZID=America/New_York:20260419T160000
DTSTAMP:20260425T101926
CREATED:20260413T150752Z
LAST-MODIFIED:20260413T154021Z
UID:34355-1776600000-1776614400@sundayruns.org
SUMMARY:Waffle Party!
DESCRIPTION:On Sunday\, April 19\, everyone (including your family) is welcome to Ulrika’s for Waffle Lunch from 12:00 onwards. There will be a variety of light dishes\, traditional Swedish waffles (GF) and coffee!  \n31 Norholt Drive\, New Canaan. Feel free to bring your dog for our dog Aspen to play with. Back yard is fenced in.
URL:https://sundayruns.org/run/waffle-party/
LOCATION:31 Norholt Drive\, New Canaan\, CT\, 31 Norholt Drive\, New Canaan\, CT\, 06840
CATEGORIES:Event
ATTACH;FMTTYPE=image/jpeg:https://sundayruns.org/wp-content/uploads/2026/04/waffle_party2.jpg
ORGANIZER;CN="Sunday Runs":MAILTO:info@sundayruns.org
END:VEVENT
BEGIN:VEVENT
DTSTART;TZID=America/New_York:20260421T053000
DTEND;TZID=America/New_York:20260421T070000
DTSTAMP:20260425T101926
CREATED:20230529T143510Z
LAST-MODIFIED:20250827T130346Z
UID:33183-1776749400-1776754800@sundayruns.org
SUMMARY:Trail Tuesday
DESCRIPTION:Looking for a mid-week run? Meet at Ward Pound Ridge Reservation\, Michigan Road Lot\, on Tuesdays at 5:30 a.m. for a run finishing up between 7:00 and 7:30. It’s a great way to get your run in early.
URL:https://sundayruns.org/run/trail-tuesday-2-2025-09-16-2026-04-21/
LOCATION:Ward Pound Ridge Reservation\, Michigan Road Lot\, Michigan Road\, Pound Ridge\, NY\, 10576\, United States
CATEGORIES:Runs
ATTACH;FMTTYPE=image/jpeg:https://sundayruns.org/wp-content/uploads/2021/10/TrailTuesday2022.jpg
ORGANIZER;CN="Sunday Runs":MAILTO:info@sundayruns.org
END:VEVENT
BEGIN:VEVENT
DTSTART;TZID=America/New_York:20260422T053000
DTEND;TZID=America/New_York:20260422T070000
DTSTAMP:20260425T101926
CREATED:20260315T163626Z
LAST-MODIFIED:20260315T163626Z
UID:33919-1776835800-1776841200@sundayruns.org
SUMMARY:Workout Wednesday—Kimberly Bridge
DESCRIPTION:Are you looking to amp up your running? Add hill repeats and speed work on Wednesdays at 5:30 a.m. This week\, meet at Ward Pound Ridge Reservation\, Kimberly Bridge Lot\, at 5:30 a.m.\, for 90 minutes of Hill Repeats. At a 13% average incline\, the Blue Hill segment is one of the steepest in the Rez and the perfect training ground for any upcoming race. The .6 mile uphill contains just over 400 feet of vertical gain while the downhill is a great quad-shredding exercise. If you need to train with poles\, this is a good course to do so. We’ll aim for 4 or 5 repeats and see what we have left after that.
URL:https://sundayruns.org/run/workout-wednesday-kimberly-bridge-2026-04-22/
LOCATION:Ward Pound Ridge Reservation\, Kimberly Bridge\, Reservation Road\, Pound Ridge\, NY\, 10576\, United States
CATEGORIES:Runs
ATTACH;FMTTYPE=image/jpeg:https://sundayruns.org/wp-content/uploads/2022/12/workout-wednesday.jpg
ORGANIZER;CN="Sunday Runs":MAILTO:info@sundayruns.org
END:VEVENT
BEGIN:VEVENT
DTSTART;TZID=America/New_York:20260423T053000
DTEND;TZID=America/New_York:20260423T070000
DTSTAMP:20260425T101926
CREATED:20211015T175155Z
LAST-MODIFIED:20250205T140939Z
UID:31379-1776922200-1776927600@sundayruns.org
SUMMARY:Trail Thursday
DESCRIPTION:Looking for a mid-week run? Meet at Ward Pound Ridge Reservation\, Michigan Road Lot\, on Thursdays at 5:30 a.m. for a run finishing up at 7:00.
URL:https://sundayruns.org/run/trail-thursday-2022-2022-09-22-2023-11-23-2026-04-23/
LOCATION:Ward Pound Ridge Reservation\, Michigan Road Lot\, Michigan Road\, Pound Ridge\, NY\, 10576\, United States
CATEGORIES:Runs
ATTACH;FMTTYPE=image/jpeg:https://sundayruns.org/wp-content/uploads/2021/10/TrailThursday2022.jpg
ORGANIZER;CN="Sunday Runs":MAILTO:info@sundayruns.org
END:VEVENT
BEGIN:VEVENT
DTSTART;TZID=America/New_York:20260425T070000
DTEND;TZID=America/New_York:20260425T083000
DTSTAMP:20260425T101926
CREATED:20260420T201208Z
LAST-MODIFIED:20260420T201208Z
UID:34986-1777100400-1777105800@sundayruns.org
SUMMARY:Meadow Museum Fire Tower to Michigan
DESCRIPTION:On Saturday\, April 25\, at 7:00 a.m.\, meet at Ward Pound Ridge Reservation\, Meadow Lot\, when we run the Meadow Museum\, Fire Tower\, to Michigan loop. Sure\, this looks like last Sunday’s run\, but you can never get enough of this course. We’ll run this in a clockwise direction as marked and runners have the opportunity to run distances from 5 to 8.5 miles. Early Risers start at 6:00. I’ll bring a couple of maps in case anyone goes off course accidentally. \n\nPrint Map Download the PDF\n \nFrom the archives: Last year we ran this course on April 26\, 2025
URL:https://sundayruns.org/run/meadow-museum-fire-tower-to-michigan-04-25-26/
LOCATION:Ward Pound Ridge Reservation\, Meadow Lot\, Reservation Road\, Pound Ridge\, NY\, 10576\, United States
CATEGORIES:Runs
ATTACH;FMTTYPE=image/jpeg:https://sundayruns.org/wp-content/uploads/2019/04/meadowtomichigan4.jpg
ORGANIZER;CN="Sunday Runs":MAILTO:info@sundayruns.org
END:VEVENT
BEGIN:VEVENT
DTSTART;TZID=America/New_York:20260426T090000
DTEND;TZID=America/New_York:20260426T120000
DTSTAMP:20260425T101926
CREATED:20260324T003117Z
LAST-MODIFIED:20260324T003117Z
UID:33975-1777194000-1777204800@sundayruns.org
SUMMARY:38th Annual Leatherman’s Loop
DESCRIPTION:On Sunday\, April 26\, at 9:00 a.m.\, we’ll be meeting at the Meadow lot for the 38th annual Leatherman’s Loop. Cobweb Crew meets at 5:00 a.m. No Rookie Runners session or official 7:00 a.m. start this week. \nLearn more and check out the opportunities to volunteer at LeathermansLoop.org \nDon’t forget to ARRIVE EARLY! Please plan to arrive at the park before 8:15 a.m. — or even earlier if you can swing it. \nFor more information\, visit leathermansloop.org \n\nPrint Map Download the PDF
URL:https://sundayruns.org/run/38th-annual-leathermans-loop-copy/
LOCATION:Ward Pound Ridge Reservation\, Meadow Lot\, Reservation Road\, Pound Ridge\, NY\, 10576\, United States
CATEGORIES:Trail Mix Races
ATTACH;FMTTYPE=image/jpeg:https://sundayruns.org/wp-content/uploads/2015/04/LoopGraphic.jpg
ORGANIZER;CN="Sunday Runs":MAILTO:info@sundayruns.org
END:VEVENT
BEGIN:VEVENT
DTSTART;TZID=America/New_York:20260428T053000
DTEND;TZID=America/New_York:20260428T070000
DTSTAMP:20260425T101926
CREATED:20230529T143510Z
LAST-MODIFIED:20250827T130346Z
UID:33184-1777354200-1777359600@sundayruns.org
SUMMARY:Trail Tuesday
DESCRIPTION:Looking for a mid-week run? Meet at Ward Pound Ridge Reservation\, Michigan Road Lot\, on Tuesdays at 5:30 a.m. for a run finishing up between 7:00 and 7:30. It’s a great way to get your run in early.
URL:https://sundayruns.org/run/trail-tuesday-2-2025-09-16-2026-04-28/
LOCATION:Ward Pound Ridge Reservation\, Michigan Road Lot\, Michigan Road\, Pound Ridge\, NY\, 10576\, United States
CATEGORIES:Runs
ATTACH;FMTTYPE=image/jpeg:https://sundayruns.org/wp-content/uploads/2021/10/TrailTuesday2022.jpg
ORGANIZER;CN="Sunday Runs":MAILTO:info@sundayruns.org
END:VEVENT
BEGIN:VEVENT
DTSTART;TZID=America/New_York:20260430T053000
DTEND;TZID=America/New_York:20260430T070000
DTSTAMP:20260425T101926
CREATED:20211015T175155Z
LAST-MODIFIED:20250205T140939Z
UID:31380-1777527000-1777532400@sundayruns.org
SUMMARY:Trail Thursday
DESCRIPTION:Looking for a mid-week run? Meet at Ward Pound Ridge Reservation\, Michigan Road Lot\, on Thursdays at 5:30 a.m. for a run finishing up at 7:00.
URL:https://sundayruns.org/run/trail-thursday-2022-2022-09-22-2023-11-23-2026-04-30/
LOCATION:Ward Pound Ridge Reservation\, Michigan Road Lot\, Michigan Road\, Pound Ridge\, NY\, 10576\, United States
CATEGORIES:Runs
ATTACH;FMTTYPE=image/jpeg:https://sundayruns.org/wp-content/uploads/2021/10/TrailThursday2022.jpg
ORGANIZER;CN="Sunday Runs":MAILTO:info@sundayruns.org
END:VEVENT
BEGIN:VEVENT
DTSTART;TZID=America/New_York:20260430T190000
DTEND;TZID=America/New_York:20260430T210000
DTSTAMP:20260425T101926
CREATED:20260319T204502Z
LAST-MODIFIED:20260327T201003Z
UID:33928-1777575600-1777582800@sundayruns.org
SUMMARY:Trail Running Film Festival
DESCRIPTION:On Thursday\, April 30\, at 7:00 p.m.\, join us at the Trail Running Film Festival in Theater 2\, 25 Prospect St.\, Ridgefield. This one-night-only event brings to life great tales from the running community but you don’t need to be a trail runner to enjoy an evening of fun and camaraderie. This is the same film festival we’ve sponsored at the Bedford Playhouse\, only the venue has changed. Tickets are only available in advance and not at the door. \nTickets and details ›› \n \nBe a Hero: Become a Sponsor\nThis event is made possible by the generosity of an anonymous donor. If you’d like to become a sponsor at any level\, help defray the cost\, and insure we bring the event back in the future\, contact me. \n\nOur Sponsors\nThank you to our sponsors for their generosity. Without their support\, this event would not happen. \nPLATINUM SPONSOR \nAnonymous \nSILVER SPONSOR \nJacob Benesch Advertising \n\nTRFF 2026 Global Tour Trailer ››.
URL:https://sundayruns.org/run/trail-running-film-festival-2026/
LOCATION:Prospector Theater\, 25 Prospect Street\, Ridgefield\, 06877\, United States
CATEGORIES:Event
ATTACH;FMTTYPE=image/jpeg:https://sundayruns.org/wp-content/uploads/2026/03/TRFF_Featured.jpg
ORGANIZER;CN="Sunday Runs":MAILTO:info@sundayruns.org
END:VEVENT
BEGIN:VEVENT
DTSTART;TZID=America/New_York:20260505T053000
DTEND;TZID=America/New_York:20260505T070000
DTSTAMP:20260425T101926
CREATED:20230529T143510Z
LAST-MODIFIED:20250827T130347Z
UID:33185-1777959000-1777964400@sundayruns.org
SUMMARY:Trail Tuesday
DESCRIPTION:Looking for a mid-week run? Meet at Ward Pound Ridge Reservation\, Michigan Road Lot\, on Tuesdays at 5:30 a.m. for a run finishing up between 7:00 and 7:30. It’s a great way to get your run in early.
URL:https://sundayruns.org/run/trail-tuesday-2-2025-09-16-2026-05-05/
LOCATION:Ward Pound Ridge Reservation\, Michigan Road Lot\, Michigan Road\, Pound Ridge\, NY\, 10576\, United States
CATEGORIES:Runs
ATTACH;FMTTYPE=image/jpeg:https://sundayruns.org/wp-content/uploads/2021/10/TrailTuesday2022.jpg
ORGANIZER;CN="Sunday Runs":MAILTO:info@sundayruns.org
END:VEVENT
BEGIN:VEVENT
DTSTART;TZID=America/New_York:20260507T053000
DTEND;TZID=America/New_York:20260507T070000
DTSTAMP:20260425T101926
CREATED:20211015T175155Z
LAST-MODIFIED:20250205T140940Z
UID:31381-1778131800-1778137200@sundayruns.org
SUMMARY:Trail Thursday
DESCRIPTION:Looking for a mid-week run? Meet at Ward Pound Ridge Reservation\, Michigan Road Lot\, on Thursdays at 5:30 a.m. for a run finishing up at 7:00.
URL:https://sundayruns.org/run/trail-thursday-2022-2022-09-22-2023-11-23-2026-05-07/
LOCATION:Ward Pound Ridge Reservation\, Michigan Road Lot\, Michigan Road\, Pound Ridge\, NY\, 10576\, United States
CATEGORIES:Runs
ATTACH;FMTTYPE=image/jpeg:https://sundayruns.org/wp-content/uploads/2021/10/TrailThursday2022.jpg
ORGANIZER;CN="Sunday Runs":MAILTO:info@sundayruns.org
END:VEVENT
BEGIN:VEVENT
DTSTART;TZID=America/New_York:20260512T053000
DTEND;TZID=America/New_York:20260512T070000
DTSTAMP:20260425T101926
CREATED:20230529T143510Z
LAST-MODIFIED:20230529T143510Z
UID:30036-1778563800-1778569200@sundayruns.org
SUMMARY:Trail Tuesday
DESCRIPTION:Looking for a mid-week run? Meet at Ward Pound Ridge Reservation\, Michigan Road Lot\, on Tuesdays at 5:30 a.m. for a run finishing up between 7:00 and 7:30. It’s a great way to get your run in early.
URL:https://sundayruns.org/run/trail-tuesday-2-2026-05-12/
LOCATION:Ward Pound Ridge Reservation\, Michigan Road Lot\, Michigan Road\, Pound Ridge\, NY\, 10576\, United States
CATEGORIES:Runs
ATTACH;FMTTYPE=image/jpeg:https://sundayruns.org/wp-content/uploads/2021/10/TrailTuesday2022.jpg
ORGANIZER;CN="Sunday Runs":MAILTO:info@sundayruns.org
END:VEVENT
BEGIN:VEVENT
DTSTART;TZID=America/New_York:20260514T053000
DTEND;TZID=America/New_York:20260514T070000
DTSTAMP:20260425T101926
CREATED:20211015T175155Z
LAST-MODIFIED:20250205T140940Z
UID:30041-1778736600-1778742000@sundayruns.org
SUMMARY:Trail Thursday
DESCRIPTION:Looking for a mid-week run? Meet at Ward Pound Ridge Reservation\, Michigan Road Lot\, on Thursdays at 5:30 a.m. for a run finishing up at 7:00.
URL:https://sundayruns.org/run/trail-thursday-2022-2022-09-22-2023-11-23-2026-05-14/
LOCATION:Ward Pound Ridge Reservation\, Michigan Road Lot\, Michigan Road\, Pound Ridge\, NY\, 10576\, United States
CATEGORIES:Runs
ATTACH;FMTTYPE=image/jpeg:https://sundayruns.org/wp-content/uploads/2021/10/TrailThursday2022.jpg
ORGANIZER;CN="Sunday Runs":MAILTO:info@sundayruns.org
END:VEVENT
BEGIN:VEVENT
DTSTART;TZID=America/New_York:20260519T053000
DTEND;TZID=America/New_York:20260519T070000
DTSTAMP:20260425T101926
CREATED:20230529T143510Z
LAST-MODIFIED:20230529T143510Z
UID:30042-1779168600-1779174000@sundayruns.org
SUMMARY:Trail Tuesday
DESCRIPTION:Looking for a mid-week run? Meet at Ward Pound Ridge Reservation\, Michigan Road Lot\, on Tuesdays at 5:30 a.m. for a run finishing up between 7:00 and 7:30. It’s a great way to get your run in early.
URL:https://sundayruns.org/run/trail-tuesday-2-2026-05-19/
LOCATION:Ward Pound Ridge Reservation\, Michigan Road Lot\, Michigan Road\, Pound Ridge\, NY\, 10576\, United States
CATEGORIES:Runs
ATTACH;FMTTYPE=image/jpeg:https://sundayruns.org/wp-content/uploads/2021/10/TrailTuesday2022.jpg
ORGANIZER;CN="Sunday Runs":MAILTO:info@sundayruns.org
END:VEVENT
BEGIN:VEVENT
DTSTART;TZID=America/New_York:20260521T053000
DTEND;TZID=America/New_York:20260521T070000
DTSTAMP:20260425T101926
CREATED:20211015T175155Z
LAST-MODIFIED:20250205T140940Z
UID:30054-1779341400-1779346800@sundayruns.org
SUMMARY:Trail Thursday
DESCRIPTION:Looking for a mid-week run? Meet at Ward Pound Ridge Reservation\, Michigan Road Lot\, on Thursdays at 5:30 a.m. for a run finishing up at 7:00.
URL:https://sundayruns.org/run/trail-thursday-2022-2022-09-22-2023-11-23-2026-05-21/
LOCATION:Ward Pound Ridge Reservation\, Michigan Road Lot\, Michigan Road\, Pound Ridge\, NY\, 10576\, United States
CATEGORIES:Runs
ATTACH;FMTTYPE=image/jpeg:https://sundayruns.org/wp-content/uploads/2021/10/TrailThursday2022.jpg
ORGANIZER;CN="Sunday Runs":MAILTO:info@sundayruns.org
END:VEVENT
BEGIN:VEVENT
DTSTART;TZID=America/New_York:20260526T053000
DTEND;TZID=America/New_York:20260526T070000
DTSTAMP:20260425T101926
CREATED:20230529T143510Z
LAST-MODIFIED:20230529T143510Z
UID:30059-1779773400-1779778800@sundayruns.org
SUMMARY:Trail Tuesday
DESCRIPTION:Looking for a mid-week run? Meet at Ward Pound Ridge Reservation\, Michigan Road Lot\, on Tuesdays at 5:30 a.m. for a run finishing up between 7:00 and 7:30. It’s a great way to get your run in early.
URL:https://sundayruns.org/run/trail-tuesday-2-2026-05-26/
LOCATION:Ward Pound Ridge Reservation\, Michigan Road Lot\, Michigan Road\, Pound Ridge\, NY\, 10576\, United States
CATEGORIES:Runs
ATTACH;FMTTYPE=image/jpeg:https://sundayruns.org/wp-content/uploads/2021/10/TrailTuesday2022.jpg
ORGANIZER;CN="Sunday Runs":MAILTO:info@sundayruns.org
END:VEVENT
BEGIN:VEVENT
DTSTART;TZID=America/New_York:20260528T053000
DTEND;TZID=America/New_York:20260528T070000
DTSTAMP:20260425T101926
CREATED:20211015T175155Z
LAST-MODIFIED:20250205T140942Z
UID:30479-1779946200-1779951600@sundayruns.org
SUMMARY:Trail Thursday
DESCRIPTION:Looking for a mid-week run? Meet at Ward Pound Ridge Reservation\, Michigan Road Lot\, on Thursdays at 5:30 a.m. for a run finishing up at 7:00.
URL:https://sundayruns.org/run/trail-thursday-2022-2022-09-22-2023-11-23-2026-05-28/
LOCATION:Ward Pound Ridge Reservation\, Michigan Road Lot\, Michigan Road\, Pound Ridge\, NY\, 10576\, United States
CATEGORIES:Runs
ATTACH;FMTTYPE=image/jpeg:https://sundayruns.org/wp-content/uploads/2021/10/TrailThursday2022.jpg
ORGANIZER;CN="Sunday Runs":MAILTO:info@sundayruns.org
END:VEVENT
BEGIN:VEVENT
DTSTART;TZID=America/New_York:20260602T053000
DTEND;TZID=America/New_York:20260602T070000
DTSTAMP:20260425T101926
CREATED:20230529T143510Z
LAST-MODIFIED:20230529T143510Z
UID:30488-1780378200-1780383600@sundayruns.org
SUMMARY:Trail Tuesday
DESCRIPTION:Looking for a mid-week run? Meet at Ward Pound Ridge Reservation\, Michigan Road Lot\, on Tuesdays at 5:30 a.m. for a run finishing up between 7:00 and 7:30. It’s a great way to get your run in early.
URL:https://sundayruns.org/run/trail-tuesday-2-2026-06-02/
LOCATION:Ward Pound Ridge Reservation\, Michigan Road Lot\, Michigan Road\, Pound Ridge\, NY\, 10576\, United States
CATEGORIES:Runs
ATTACH;FMTTYPE=image/jpeg:https://sundayruns.org/wp-content/uploads/2021/10/TrailTuesday2022.jpg
ORGANIZER;CN="Sunday Runs":MAILTO:info@sundayruns.org
END:VEVENT
BEGIN:VEVENT
DTSTART;TZID=America/New_York:20260604T053000
DTEND;TZID=America/New_York:20260604T070000
DTSTAMP:20260425T101926
CREATED:20211015T175155Z
LAST-MODIFIED:20250205T140942Z
UID:30480-1780551000-1780556400@sundayruns.org
SUMMARY:Trail Thursday
DESCRIPTION:Looking for a mid-week run? Meet at Ward Pound Ridge Reservation\, Michigan Road Lot\, on Thursdays at 5:30 a.m. for a run finishing up at 7:00.
URL:https://sundayruns.org/run/trail-thursday-2022-2022-09-22-2023-11-23-2026-06-04/
LOCATION:Ward Pound Ridge Reservation\, Michigan Road Lot\, Michigan Road\, Pound Ridge\, NY\, 10576\, United States
CATEGORIES:Runs
ATTACH;FMTTYPE=image/jpeg:https://sundayruns.org/wp-content/uploads/2021/10/TrailThursday2022.jpg
ORGANIZER;CN="Sunday Runs":MAILTO:info@sundayruns.org
END:VEVENT
BEGIN:VEVENT
DTSTART;TZID=America/New_York:20260609T053000
DTEND;TZID=America/New_York:20260609T070000
DTSTAMP:20260425T101926
CREATED:20230529T143510Z
LAST-MODIFIED:20230529T143510Z
UID:30489-1780983000-1780988400@sundayruns.org
SUMMARY:Trail Tuesday
DESCRIPTION:Looking for a mid-week run? Meet at Ward Pound Ridge Reservation\, Michigan Road Lot\, on Tuesdays at 5:30 a.m. for a run finishing up between 7:00 and 7:30. It’s a great way to get your run in early.
URL:https://sundayruns.org/run/trail-tuesday-2-2026-06-09/
LOCATION:Ward Pound Ridge Reservation\, Michigan Road Lot\, Michigan Road\, Pound Ridge\, NY\, 10576\, United States
CATEGORIES:Runs
ATTACH;FMTTYPE=image/jpeg:https://sundayruns.org/wp-content/uploads/2021/10/TrailTuesday2022.jpg
ORGANIZER;CN="Sunday Runs":MAILTO:info@sundayruns.org
END:VEVENT
BEGIN:VEVENT
DTSTART;TZID=America/New_York:20260611T053000
DTEND;TZID=America/New_York:20260611T070000
DTSTAMP:20260425T101926
CREATED:20211015T175155Z
LAST-MODIFIED:20250205T140942Z
UID:30481-1781155800-1781161200@sundayruns.org
SUMMARY:Trail Thursday
DESCRIPTION:Looking for a mid-week run? Meet at Ward Pound Ridge Reservation\, Michigan Road Lot\, on Thursdays at 5:30 a.m. for a run finishing up at 7:00.
URL:https://sundayruns.org/run/trail-thursday-2022-2022-09-22-2023-11-23-2026-06-11/
LOCATION:Ward Pound Ridge Reservation\, Michigan Road Lot\, Michigan Road\, Pound Ridge\, NY\, 10576\, United States
CATEGORIES:Runs
ATTACH;FMTTYPE=image/jpeg:https://sundayruns.org/wp-content/uploads/2021/10/TrailThursday2022.jpg
ORGANIZER;CN="Sunday Runs":MAILTO:info@sundayruns.org
END:VEVENT
BEGIN:VEVENT
DTSTART;TZID=America/New_York:20260616T053000
DTEND;TZID=America/New_York:20260616T070000
DTSTAMP:20260425T101926
CREATED:20230529T143510Z
LAST-MODIFIED:20230529T143510Z
UID:30490-1781587800-1781593200@sundayruns.org
SUMMARY:Trail Tuesday
DESCRIPTION:Looking for a mid-week run? Meet at Ward Pound Ridge Reservation\, Michigan Road Lot\, on Tuesdays at 5:30 a.m. for a run finishing up between 7:00 and 7:30. It’s a great way to get your run in early.
URL:https://sundayruns.org/run/trail-tuesday-2-2026-06-16/
LOCATION:Ward Pound Ridge Reservation\, Michigan Road Lot\, Michigan Road\, Pound Ridge\, NY\, 10576\, United States
CATEGORIES:Runs
ATTACH;FMTTYPE=image/jpeg:https://sundayruns.org/wp-content/uploads/2021/10/TrailTuesday2022.jpg
ORGANIZER;CN="Sunday Runs":MAILTO:info@sundayruns.org
END:VEVENT
BEGIN:VEVENT
DTSTART;TZID=America/New_York:20260618T053000
DTEND;TZID=America/New_York:20260618T070000
DTSTAMP:20260425T101926
CREATED:20211015T175155Z
LAST-MODIFIED:20250205T140942Z
UID:30482-1781760600-1781766000@sundayruns.org
SUMMARY:Trail Thursday
DESCRIPTION:Looking for a mid-week run? Meet at Ward Pound Ridge Reservation\, Michigan Road Lot\, on Thursdays at 5:30 a.m. for a run finishing up at 7:00.
URL:https://sundayruns.org/run/trail-thursday-2022-2022-09-22-2023-11-23-2026-06-18/
LOCATION:Ward Pound Ridge Reservation\, Michigan Road Lot\, Michigan Road\, Pound Ridge\, NY\, 10576\, United States
CATEGORIES:Runs
ATTACH;FMTTYPE=image/jpeg:https://sundayruns.org/wp-content/uploads/2021/10/TrailThursday2022.jpg
ORGANIZER;CN="Sunday Runs":MAILTO:info@sundayruns.org
END:VEVENT
BEGIN:VEVENT
DTSTART;TZID=America/New_York:20260623T053000
DTEND;TZID=America/New_York:20260623T070000
DTSTAMP:20260425T101926
CREATED:20230529T143510Z
LAST-MODIFIED:20230529T143510Z
UID:30491-1782192600-1782198000@sundayruns.org
SUMMARY:Trail Tuesday
DESCRIPTION:Looking for a mid-week run? Meet at Ward Pound Ridge Reservation\, Michigan Road Lot\, on Tuesdays at 5:30 a.m. for a run finishing up between 7:00 and 7:30. It’s a great way to get your run in early.
URL:https://sundayruns.org/run/trail-tuesday-2-2026-06-23/
LOCATION:Ward Pound Ridge Reservation\, Michigan Road Lot\, Michigan Road\, Pound Ridge\, NY\, 10576\, United States
CATEGORIES:Runs
ATTACH;FMTTYPE=image/jpeg:https://sundayruns.org/wp-content/uploads/2021/10/TrailTuesday2022.jpg
ORGANIZER;CN="Sunday Runs":MAILTO:info@sundayruns.org
END:VEVENT
BEGIN:VEVENT
DTSTART;TZID=America/New_York:20260625T053000
DTEND;TZID=America/New_York:20260625T070000
DTSTAMP:20260425T101926
CREATED:20211015T175155Z
LAST-MODIFIED:20250205T140943Z
UID:30483-1782365400-1782370800@sundayruns.org
SUMMARY:Trail Thursday
DESCRIPTION:Looking for a mid-week run? Meet at Ward Pound Ridge Reservation\, Michigan Road Lot\, on Thursdays at 5:30 a.m. for a run finishing up at 7:00.
URL:https://sundayruns.org/run/trail-thursday-2022-2022-09-22-2023-11-23-2026-06-25/
LOCATION:Ward Pound Ridge Reservation\, Michigan Road Lot\, Michigan Road\, Pound Ridge\, NY\, 10576\, United States
CATEGORIES:Runs
ATTACH;FMTTYPE=image/jpeg:https://sundayruns.org/wp-content/uploads/2021/10/TrailThursday2022.jpg
ORGANIZER;CN="Sunday Runs":MAILTO:info@sundayruns.org
END:VEVENT
BEGIN:VEVENT
DTSTART;TZID=America/New_York:20260630T053000
DTEND;TZID=America/New_York:20260630T070000
DTSTAMP:20260425T101926
CREATED:20230529T143510Z
LAST-MODIFIED:20230529T143510Z
UID:30492-1782797400-1782802800@sundayruns.org
SUMMARY:Trail Tuesday
DESCRIPTION:Looking for a mid-week run? Meet at Ward Pound Ridge Reservation\, Michigan Road Lot\, on Tuesdays at 5:30 a.m. for a run finishing up between 7:00 and 7:30. It’s a great way to get your run in early.
URL:https://sundayruns.org/run/trail-tuesday-2-2026-06-30/
LOCATION:Ward Pound Ridge Reservation\, Michigan Road Lot\, Michigan Road\, Pound Ridge\, NY\, 10576\, United States
CATEGORIES:Runs
ATTACH;FMTTYPE=image/jpeg:https://sundayruns.org/wp-content/uploads/2021/10/TrailTuesday2022.jpg
ORGANIZER;CN="Sunday Runs":MAILTO:info@sundayruns.org
END:VEVENT
BEGIN:VEVENT
DTSTART;TZID=America/New_York:20260702T053000
DTEND;TZID=America/New_York:20260702T070000
DTSTAMP:20260425T101926
CREATED:20211015T175155Z
LAST-MODIFIED:20250205T140943Z
UID:30484-1782970200-1782975600@sundayruns.org
SUMMARY:Trail Thursday
DESCRIPTION:Looking for a mid-week run? Meet at Ward Pound Ridge Reservation\, Michigan Road Lot\, on Thursdays at 5:30 a.m. for a run finishing up at 7:00.
URL:https://sundayruns.org/run/trail-thursday-2022-2022-09-22-2023-11-23-2026-07-02/
LOCATION:Ward Pound Ridge Reservation\, Michigan Road Lot\, Michigan Road\, Pound Ridge\, NY\, 10576\, United States
CATEGORIES:Runs
ATTACH;FMTTYPE=image/jpeg:https://sundayruns.org/wp-content/uploads/2021/10/TrailThursday2022.jpg
ORGANIZER;CN="Sunday Runs":MAILTO:info@sundayruns.org
END:VEVENT
BEGIN:VEVENT
DTSTART;TZID=America/New_York:20260707T053000
DTEND;TZID=America/New_York:20260707T070000
DTSTAMP:20260425T101926
CREATED:20230529T143510Z
LAST-MODIFIED:20230529T143510Z
UID:30493-1783402200-1783407600@sundayruns.org
SUMMARY:Trail Tuesday
DESCRIPTION:Looking for a mid-week run? Meet at Ward Pound Ridge Reservation\, Michigan Road Lot\, on Tuesdays at 5:30 a.m. for a run finishing up between 7:00 and 7:30. It’s a great way to get your run in early.
URL:https://sundayruns.org/run/trail-tuesday-2-2026-07-07/
LOCATION:Ward Pound Ridge Reservation\, Michigan Road Lot\, Michigan Road\, Pound Ridge\, NY\, 10576\, United States
CATEGORIES:Runs
ATTACH;FMTTYPE=image/jpeg:https://sundayruns.org/wp-content/uploads/2021/10/TrailTuesday2022.jpg
ORGANIZER;CN="Sunday Runs":MAILTO:info@sundayruns.org
END:VEVENT
END:VCALENDAR