BEGIN:VCALENDAR
VERSION:2.0
PRODID:-//Sunday Runs with the Leatherman Harriers - ECPv6.15.13//NONSGML v1.0//EN
CALSCALE:GREGORIAN
METHOD:PUBLISH
X-WR-CALNAME:Sunday Runs with the Leatherman Harriers
X-ORIGINAL-URL:https://sundayruns.org
X-WR-CALDESC:Events for Sunday Runs with the Leatherman Harriers
REFRESH-INTERVAL;VALUE=DURATION:PT1H
X-Robots-Tag:noindex
X-PUBLISHED-TTL:PT1H
BEGIN:VTIMEZONE
TZID:America/New_York
BEGIN:DAYLIGHT
TZOFFSETFROM:-0500
TZOFFSETTO:-0400
TZNAME:EDT
DTSTART:20240310T070000
END:DAYLIGHT
BEGIN:STANDARD
TZOFFSETFROM:-0400
TZOFFSETTO:-0500
TZNAME:EST
DTSTART:20241103T060000
END:STANDARD
BEGIN:DAYLIGHT
TZOFFSETFROM:-0500
TZOFFSETTO:-0400
TZNAME:EDT
DTSTART:20250309T070000
END:DAYLIGHT
BEGIN:STANDARD
TZOFFSETFROM:-0400
TZOFFSETTO:-0500
TZNAME:EST
DTSTART:20251102T060000
END:STANDARD
BEGIN:DAYLIGHT
TZOFFSETFROM:-0500
TZOFFSETTO:-0400
TZNAME:EDT
DTSTART:20260308T070000
END:DAYLIGHT
BEGIN:STANDARD
TZOFFSETFROM:-0400
TZOFFSETTO:-0500
TZNAME:EST
DTSTART:20261101T060000
END:STANDARD
END:VTIMEZONE
BEGIN:VEVENT
DTSTART;TZID=America/New_York:20250401T053000
DTEND;TZID=America/New_York:20250401T070000
DTSTAMP:20260425T234825
CREATED:20230529T143510Z
LAST-MODIFIED:20230529T143510Z
UID:29992-1743485400-1743490800@sundayruns.org
SUMMARY:Trail Tuesday
DESCRIPTION:Looking for a mid-week run? Meet at Ward Pound Ridge Reservation\, Michigan Road Lot\, on Tuesdays at 5:30 a.m. for a run finishing up between 7:00 and 7:30. It’s a great way to get your run in early.
URL:https://sundayruns.org/run/trail-tuesday-2-2025-04-01/
LOCATION:Ward Pound Ridge Reservation\, Michigan Road Lot\, Michigan Road\, Pound Ridge\, NY\, 10576\, United States
CATEGORIES:Runs
ATTACH;FMTTYPE=image/jpeg:https://sundayruns.org/wp-content/uploads/2021/10/TrailTuesday2022.jpg
ORGANIZER;CN="Sunday Runs":MAILTO:info@sundayruns.org
END:VEVENT
BEGIN:VEVENT
DTSTART;TZID=America/New_York:20250402T053000
DTEND;TZID=America/New_York:20250402T070000
DTSTAMP:20260425T234825
CREATED:20250316T155537Z
LAST-MODIFIED:20250316T155537Z
UID:31822-1743571800-1743577200@sundayruns.org
SUMMARY:Workout Wednesday—Trailside Museum
DESCRIPTION:Are you looking to amp up your running? Add hill repeats and speed work on Wednesdays at 5:30 a.m. This week\, meet at Ward Pound Ridge Reservation\, Trailside Museum Lot\, at 5:30 a.m.\, for 90 minutes of Hill Repeats. At a 10% average incline\, the FH to Lean-to 7 segment (Happy Ending on Strava—don’t ask!) is less steep than Blue but also less technical.
URL:https://sundayruns.org/run/workout-wednesday-trailside-4-2-2025/
LOCATION:Trailside Museum\, Reservation Road\, Pound Ridge\, NY\, 10576\, United States
CATEGORIES:Runs
ATTACH;FMTTYPE=image/jpeg:https://sundayruns.org/wp-content/uploads/2022/12/workout-wednesday.jpg
ORGANIZER;CN="Sunday Runs":MAILTO:info@sundayruns.org
END:VEVENT
BEGIN:VEVENT
DTSTART;TZID=America/New_York:20250403T053000
DTEND;TZID=America/New_York:20250403T070000
DTSTAMP:20260425T234825
CREATED:20211015T175155Z
LAST-MODIFIED:20250205T140922Z
UID:29898-1743658200-1743663600@sundayruns.org
SUMMARY:Trail Thursday
DESCRIPTION:Looking for a mid-week run? Meet at Ward Pound Ridge Reservation\, Michigan Road Lot\, on Thursdays at 5:30 a.m. for a run finishing up at 7:00.
URL:https://sundayruns.org/run/trail-thursday-2022-2022-09-22-2023-11-23-2025-04-03/
LOCATION:Ward Pound Ridge Reservation\, Michigan Road Lot\, Michigan Road\, Pound Ridge\, NY\, 10576\, United States
CATEGORIES:Runs
ATTACH;FMTTYPE=image/jpeg:https://sundayruns.org/wp-content/uploads/2021/10/TrailThursday2022.jpg
ORGANIZER;CN="Sunday Runs":MAILTO:info@sundayruns.org
END:VEVENT
BEGIN:VEVENT
DTSTART;TZID=America/New_York:20250405T070000
DTEND;TZID=America/New_York:20250405T083000
DTSTAMP:20260425T234825
CREATED:20250324T211348Z
LAST-MODIFIED:20250324T211348Z
UID:31932-1743836400-1743841800@sundayruns.org
SUMMARY:Sights and Heights
DESCRIPTION:On Saturday\, April 5\, at 7:00 a.m.\, meet at Ward Pound Ridge Reservation\, Michigan Road Lot\, ready to run the Sights to Heights course. Options include 5.5\, 7\, and 8.5 miles and we will have the option of taking a course variation we haven’t taken in a blue moon. Early risers can start at 6:00 for some extra miles. \n\nPrint Map Download the PDF\n \nThe last time we ran this course was way back on February 15.
URL:https://sundayruns.org/run/sights-and-heights-4-2025/
LOCATION:Ward Pound Ridge Reservation\, Michigan Road Lot\, Michigan Road\, Pound Ridge\, NY\, 10576\, United States
CATEGORIES:Runs
ATTACH;FMTTYPE=image/jpeg:https://sundayruns.org/wp-content/uploads/2015/05/Sightsheights2.jpg
END:VEVENT
BEGIN:VEVENT
DTSTART;TZID=America/New_York:20250406T080000
DTEND;TZID=America/New_York:20250406T100000
DTSTAMP:20260425T234825
CREATED:20250314T144103Z
LAST-MODIFIED:20250314T144103Z
UID:31806-1743926400-1743933600@sundayruns.org
SUMMARY:Meadow to John Jay
DESCRIPTION:On Sunday\, April 6\, at 8:00 a.m.\, meet at Ward Pound Ridge Reservation\, Meadow Lot\, ready to run. If you’re signed up for the John Jay 5k\, we’ll head up Howland and over to John Jay in time for the race to start. If you’re not competing\, you can continue around the northern perimeter on either the 5.5 or 8.5-mile courses. Cobweb Crew starts at 5:00 a.m.; Early Risers at 7:00 a.m.  \nRookie Runners start at 7:00 a.m. for a shorter course and easier pace.  \n\nPrint Map Download the PDF\n \nThe last time we ran this course was April 14\, 2024
URL:https://sundayruns.org/run/meadow-to-john-jay-2025/
LOCATION:Ward Pound Ridge Reservation\, Meadow Lot\, Reservation Road\, Pound Ridge\, NY\, 10576\, United States
CATEGORIES:Runs
ATTACH;FMTTYPE=image/jpeg:https://sundayruns.org/wp-content/uploads/2019/03/jj5k.jpg
ORGANIZER;CN="Sunday Runs":MAILTO:info@sundayruns.org
END:VEVENT
BEGIN:VEVENT
DTSTART;TZID=America/New_York:20250408T053000
DTEND;TZID=America/New_York:20250408T070000
DTSTAMP:20260425T234825
CREATED:20230529T143510Z
LAST-MODIFIED:20230529T143510Z
UID:29993-1744090200-1744095600@sundayruns.org
SUMMARY:Trail Tuesday
DESCRIPTION:Looking for a mid-week run? Meet at Ward Pound Ridge Reservation\, Michigan Road Lot\, on Tuesdays at 5:30 a.m. for a run finishing up between 7:00 and 7:30. It’s a great way to get your run in early.
URL:https://sundayruns.org/run/trail-tuesday-2-2025-04-08/
LOCATION:Ward Pound Ridge Reservation\, Michigan Road Lot\, Michigan Road\, Pound Ridge\, NY\, 10576\, United States
CATEGORIES:Runs
ATTACH;FMTTYPE=image/jpeg:https://sundayruns.org/wp-content/uploads/2021/10/TrailTuesday2022.jpg
ORGANIZER;CN="Sunday Runs":MAILTO:info@sundayruns.org
END:VEVENT
BEGIN:VEVENT
DTSTART;TZID=America/New_York:20250409T053000
DTEND;TZID=America/New_York:20250409T070000
DTSTAMP:20260425T234825
CREATED:20250316T155752Z
LAST-MODIFIED:20250316T155752Z
UID:31821-1744176600-1744182000@sundayruns.org
SUMMARY:Workout Wednesday—Trailside Museum
DESCRIPTION:Are you looking to amp up your running? Add hill repeats and speed work on Wednesdays at 5:30 a.m. This week\, meet at Ward Pound Ridge Reservation\, Trailside Museum Lot\, at 5:30 a.m.\, for 90 minutes of Hill Repeats. At a 10% average incline\, the FH to Lean-to 7 segment (Happy Ending on Strava—don’t ask!) is less steep than Blue but also less technical.
URL:https://sundayruns.org/run/workout-wednesday-trailside-museum-4-9-2025/
LOCATION:Trailside Museum\, Reservation Road\, Pound Ridge\, NY\, 10576\, United States
CATEGORIES:Runs
ATTACH;FMTTYPE=image/jpeg:https://sundayruns.org/wp-content/uploads/2022/12/workout-wednesday.jpg
ORGANIZER;CN="Sunday Runs":MAILTO:info@sundayruns.org
END:VEVENT
BEGIN:VEVENT
DTSTART;TZID=America/New_York:20250410T053000
DTEND;TZID=America/New_York:20250410T070000
DTSTAMP:20260425T234825
CREATED:20211015T175155Z
LAST-MODIFIED:20250205T140922Z
UID:29899-1744263000-1744268400@sundayruns.org
SUMMARY:Trail Thursday
DESCRIPTION:Looking for a mid-week run? Meet at Ward Pound Ridge Reservation\, Michigan Road Lot\, on Thursdays at 5:30 a.m. for a run finishing up at 7:00.
URL:https://sundayruns.org/run/trail-thursday-2022-2022-09-22-2023-11-23-2025-04-10/
LOCATION:Ward Pound Ridge Reservation\, Michigan Road Lot\, Michigan Road\, Pound Ridge\, NY\, 10576\, United States
CATEGORIES:Runs
ATTACH;FMTTYPE=image/jpeg:https://sundayruns.org/wp-content/uploads/2021/10/TrailThursday2022.jpg
ORGANIZER;CN="Sunday Runs":MAILTO:info@sundayruns.org
END:VEVENT
BEGIN:VEVENT
DTSTART;TZID=America/New_York:20250412T070000
DTEND;TZID=America/New_York:20250412T090000
DTSTAMP:20260425T234825
CREATED:20250314T145815Z
LAST-MODIFIED:20250314T145815Z
UID:31814-1744441200-1744448400@sundayruns.org
SUMMARY:Museum\, CB\, to Blue
DESCRIPTION:On Saturday\, April 12\, at 7:00 a.m.\, meet at Ward Pound Ridge Reservation\, Trailside Museum\, ready to run the Museum\, CB\, to Blue Route. All distances start up FH and branch from there. The 6.5 and 8-mile loops take a couple of bushwhacks before meeting up with the 5-mile course. Early Risers start at 6:00 for a few extra miles. \n\nPrint Map Download the PDF\n \nFrom the archives: Last time we ran this course was April 13\, 2024.
URL:https://sundayruns.org/run/museum-cb-to-blue-4-2025/
LOCATION:Trailside Museum\, Reservation Road\, Pound Ridge\, NY\, 10576\, United States
CATEGORIES:Runs
ATTACH;FMTTYPE=image/jpeg:https://sundayruns.org/wp-content/uploads/2018/09/museum_to_blue2.jpg
ORGANIZER;CN="Sunday Runs":MAILTO:info@sundayruns.org
END:VEVENT
BEGIN:VEVENT
DTSTART;TZID=America/New_York:20250413T080000
DTEND;TZID=America/New_York:20250413T093000
DTSTAMP:20260425T234825
CREATED:20250314T144808Z
LAST-MODIFIED:20250314T144808Z
UID:31810-1744531200-1744536600@sundayruns.org
SUMMARY:Michigan to Kimberly V3
DESCRIPTION:On Sunday\, April 13\, at 8:00 a.m.\, meet at Ward Pound Ridge Reservation\, Michigan Road Lot\, ready to run the Michigan to Kimberly v3 loop. This version of the classic course offers distances from 5 to 7.5 miles but you can visit the Overlook as well to add even more. Cobweb Crew starts at 5:00; Early Risers at 6:00 a.m. \nRookie Runners start at 7:00 a.m. for a shorter distance and easier pace if necessary. \n\nPrint Map Download the PDF\n \nThe last time we ran this course was September 22\, 2024
URL:https://sundayruns.org/run/michigan-to-kimberly-4-2024/
LOCATION:Ward Pound Ridge Reservation\, Michigan Road Lot\, Michigan Road\, Pound Ridge\, NY\, 10576\, United States
CATEGORIES:Runs
ATTACH;FMTTYPE=image/jpeg:https://sundayruns.org/wp-content/uploads/2020/05/michigan_road_general.jpg
ORGANIZER;CN="Sunday Runs":MAILTO:info@sundayruns.org
END:VEVENT
BEGIN:VEVENT
DTSTART;TZID=America/New_York:20250415T053000
DTEND;TZID=America/New_York:20250415T070000
DTSTAMP:20260425T234825
CREATED:20230529T143510Z
LAST-MODIFIED:20230529T143510Z
UID:29994-1744695000-1744700400@sundayruns.org
SUMMARY:Trail Tuesday
DESCRIPTION:Looking for a mid-week run? Meet at Ward Pound Ridge Reservation\, Michigan Road Lot\, on Tuesdays at 5:30 a.m. for a run finishing up between 7:00 and 7:30. It’s a great way to get your run in early.
URL:https://sundayruns.org/run/trail-tuesday-2-2025-04-15/
LOCATION:Ward Pound Ridge Reservation\, Michigan Road Lot\, Michigan Road\, Pound Ridge\, NY\, 10576\, United States
CATEGORIES:Runs
ATTACH;FMTTYPE=image/jpeg:https://sundayruns.org/wp-content/uploads/2021/10/TrailTuesday2022.jpg
ORGANIZER;CN="Sunday Runs":MAILTO:info@sundayruns.org
END:VEVENT
BEGIN:VEVENT
DTSTART;TZID=America/New_York:20250416T053000
DTEND;TZID=America/New_York:20250416T070000
DTSTAMP:20260425T234825
CREATED:20250316T160105Z
LAST-MODIFIED:20250316T160105Z
UID:31828-1744781400-1744786800@sundayruns.org
SUMMARY:Workout Wednesday—Trailside Museum
DESCRIPTION:Are you looking to amp up your running? Add hill repeats and speed work on Wednesdays at 5:30 a.m. This week\, meet at Ward Pound Ridge Reservation\, Trailside Museum Lot\, at 5:30 a.m.\, for 90 minutes of Hill Repeats. At a 10% average incline\, the FH to Lean-to 7 segment (Happy Ending on Strava—don’t ask!) is less steep than Blue but also less technical.
URL:https://sundayruns.org/run/workout-wednesday-trailside-museum-4-16-2025/
LOCATION:Trailside Museum\, Reservation Road\, Pound Ridge\, NY\, 10576\, United States
CATEGORIES:Runs
ATTACH;FMTTYPE=image/jpeg:https://sundayruns.org/wp-content/uploads/2022/12/workout-wednesday.jpg
ORGANIZER;CN="Sunday Runs":MAILTO:info@sundayruns.org
END:VEVENT
BEGIN:VEVENT
DTSTART;TZID=America/New_York:20250417T053000
DTEND;TZID=America/New_York:20250417T070000
DTSTAMP:20260425T234825
CREATED:20211015T175155Z
LAST-MODIFIED:20250205T140922Z
UID:29900-1744867800-1744873200@sundayruns.org
SUMMARY:Trail Thursday
DESCRIPTION:Looking for a mid-week run? Meet at Ward Pound Ridge Reservation\, Michigan Road Lot\, on Thursdays at 5:30 a.m. for a run finishing up at 7:00.
URL:https://sundayruns.org/run/trail-thursday-2022-2022-09-22-2023-11-23-2025-04-17/
LOCATION:Ward Pound Ridge Reservation\, Michigan Road Lot\, Michigan Road\, Pound Ridge\, NY\, 10576\, United States
CATEGORIES:Runs
ATTACH;FMTTYPE=image/jpeg:https://sundayruns.org/wp-content/uploads/2021/10/TrailThursday2022.jpg
ORGANIZER;CN="Sunday Runs":MAILTO:info@sundayruns.org
END:VEVENT
BEGIN:VEVENT
DTSTART;TZID=America/New_York:20250419T070000
DTEND;TZID=America/New_York:20250419T090000
DTSTAMP:20260425T234825
CREATED:20250314T145515Z
LAST-MODIFIED:20250314T145515Z
UID:31812-1745046000-1745053200@sundayruns.org
SUMMARY:Butler to Meyer
DESCRIPTION:On Saturday\, April 19\, at 7:00 a.m.\, meet at Butler Sanctuary in Mt. Kisco ready to run the Butler to Meyer course which includes a section of Byram Lake Road and Oregon Road so you’ll have an opportunity to stretch your legs plus get plenty of climb on the trails. Course should be around 8 miles but if you’re looking for a longer run\, you can extend the course in Meyer or head over for a perimeter loop of Westmoreland and turn this into a half marathon. Early Risers can start at 6:00 for a perimeter loop of Butler and a view from the hawk watch before the main run. Afterwards\, head over to Mimi’s in Mt. Kisco for a coffee\, quiche\, or your favorite recovery pastry. \n\nPrint Map Download the PDF\n \nLast time we ran this course was November 16\, 2024
URL:https://sundayruns.org/run/butler-to-meyer-4-2025/
LOCATION:Butler Sanctuary\, 265 Chestnut Ridge Rd\, Mt Kisco\, NY\, 10549\, United States
CATEGORIES:Runs
ATTACH;FMTTYPE=image/jpeg:https://sundayruns.org/wp-content/uploads/2012/12/butler-e1611073671291.jpg
ORGANIZER;CN="Sunday Runs":MAILTO:info@sundayruns.org
END:VEVENT
BEGIN:VEVENT
DTSTART;TZID=America/New_York:20250420T080000
DTEND;TZID=America/New_York:20250420T093000
DTSTAMP:20260425T234825
CREATED:20250314T144444Z
LAST-MODIFIED:20250314T144444Z
UID:31808-1745136000-1745141400@sundayruns.org
SUMMARY:Meadow Museum Fire Tower to Michigan
DESCRIPTION:On Sunday\, April 20\, at 8:00 a.m.\, meet at Ward Pound Ridge Reservation\, Meadow Lot\, when we run the Meadow Museum\, Fire Tower\, to Michigan loop. We’ll run this in a clockwise direction as marked and runners have the opportunity to run distances from 5 to 8.5 miles. Cobweb Crew starts at 5:00 a.m.; Early Risers at 7:00. \nRookie Runners start at 7:00 for a shorter distance and easier pace. \n\nPrint Map Download the PDF\n \nFrom the archives: Last time we ran this course was April 21\, 2024
URL:https://sundayruns.org/run/meadow-museum-fire-tower-to-michigan-2025/
LOCATION:Ward Pound Ridge Reservation\, Meadow Lot\, Reservation Road\, Pound Ridge\, NY\, 10576\, United States
CATEGORIES:Runs
ATTACH;FMTTYPE=image/jpeg:https://sundayruns.org/wp-content/uploads/2019/04/meadowtomichigan4.jpg
ORGANIZER;CN="Sunday Runs":MAILTO:info@sundayruns.org
END:VEVENT
BEGIN:VEVENT
DTSTART;TZID=America/New_York:20250422T053000
DTEND;TZID=America/New_York:20250422T070000
DTSTAMP:20260425T234825
CREATED:20230529T143510Z
LAST-MODIFIED:20230529T143510Z
UID:29995-1745299800-1745305200@sundayruns.org
SUMMARY:Trail Tuesday
DESCRIPTION:Looking for a mid-week run? Meet at Ward Pound Ridge Reservation\, Michigan Road Lot\, on Tuesdays at 5:30 a.m. for a run finishing up between 7:00 and 7:30. It’s a great way to get your run in early.
URL:https://sundayruns.org/run/trail-tuesday-2-2025-04-22/
LOCATION:Ward Pound Ridge Reservation\, Michigan Road Lot\, Michigan Road\, Pound Ridge\, NY\, 10576\, United States
CATEGORIES:Runs
ATTACH;FMTTYPE=image/jpeg:https://sundayruns.org/wp-content/uploads/2021/10/TrailTuesday2022.jpg
ORGANIZER;CN="Sunday Runs":MAILTO:info@sundayruns.org
END:VEVENT
BEGIN:VEVENT
DTSTART;TZID=America/New_York:20250423T053000
DTEND;TZID=America/New_York:20250423T070000
DTSTAMP:20260425T234825
CREATED:20250316T160652Z
LAST-MODIFIED:20250316T160652Z
UID:31830-1745386200-1745391600@sundayruns.org
SUMMARY:Workout Wednesday—Trailside Museum
DESCRIPTION:Are you looking to amp up your running? Add hill repeats and speed work on Wednesdays at 5:30 a.m. This week\, meet at Ward Pound Ridge Reservation\, Trailside Museum Lot\, at 5:30 a.m.\, for 90 minutes of Hill Repeats. At a 10% average incline\, the FH to Lean-to 7 segment (Happy Ending on Strava—don’t ask!) is less steep than Blue but also less technical.
URL:https://sundayruns.org/run/workout-wednesday-trailside-museum-4-23-25/
LOCATION:Trailside Museum\, Reservation Road\, Pound Ridge\, NY\, 10576\, United States
CATEGORIES:Runs
ATTACH;FMTTYPE=image/jpeg:https://sundayruns.org/wp-content/uploads/2022/12/workout-wednesday.jpg
ORGANIZER;CN="Sunday Runs":MAILTO:info@sundayruns.org
END:VEVENT
BEGIN:VEVENT
DTSTART;TZID=America/New_York:20250424T053000
DTEND;TZID=America/New_York:20250424T070000
DTSTAMP:20260425T234825
CREATED:20211015T175155Z
LAST-MODIFIED:20250205T140922Z
UID:29901-1745472600-1745478000@sundayruns.org
SUMMARY:Trail Thursday
DESCRIPTION:Looking for a mid-week run? Meet at Ward Pound Ridge Reservation\, Michigan Road Lot\, on Thursdays at 5:30 a.m. for a run finishing up at 7:00.
URL:https://sundayruns.org/run/trail-thursday-2022-2022-09-22-2023-11-23-2025-04-24/
LOCATION:Ward Pound Ridge Reservation\, Michigan Road Lot\, Michigan Road\, Pound Ridge\, NY\, 10576\, United States
CATEGORIES:Runs
ATTACH;FMTTYPE=image/jpeg:https://sundayruns.org/wp-content/uploads/2021/10/TrailThursday2022.jpg
ORGANIZER;CN="Sunday Runs":MAILTO:info@sundayruns.org
END:VEVENT
BEGIN:VEVENT
DTSTART;TZID=America/New_York:20250426T070000
DTEND;TZID=America/New_York:20250426T083000
DTSTAMP:20260425T234825
CREATED:20250420T161341Z
LAST-MODIFIED:20250420T161451Z
UID:32019-1745650800-1745656200@sundayruns.org
SUMMARY:Meadow Museum Fire Tower to Michigan
DESCRIPTION:On Saturday\, April 26\, at 7:00 a.m.\, meet at Ward Pound Ridge Reservation\, Meadow Lot\, when we run the Meadow Museum\, Fire Tower\, to Michigan loop. We’ll run this in a clockwise direction as marked and runners have the opportunity to run distances from 5 to 8.5 miles. Early Risers start at 6:00. I’ll bring a couple of maps in case anyone goes off course accidentally \n\nPrint Map Download the PDF\n \nFrom the archives: Last time we ran this course was April 21\, 2024
URL:https://sundayruns.org/run/meadow-museum-fire-tower-to-michigan-redux/
LOCATION:Ward Pound Ridge Reservation\, Meadow Lot\, Reservation Road\, Pound Ridge\, NY\, 10576\, United States
CATEGORIES:Runs
ATTACH;FMTTYPE=image/jpeg:https://sundayruns.org/wp-content/uploads/2019/04/meadowtomichigan4.jpg
ORGANIZER;CN="Sunday Runs":MAILTO:info@sundayruns.org
END:VEVENT
BEGIN:VEVENT
DTSTART;TZID=America/New_York:20250427T090000
DTEND;TZID=America/New_York:20250427T120000
DTSTAMP:20260425T234825
CREATED:20250324T210651Z
LAST-MODIFIED:20250324T210651Z
UID:31930-1745744400-1745755200@sundayruns.org
SUMMARY:37th Annual Leatherman’s Loop
DESCRIPTION:On Sunday\, April 27\, at 9:00 a.m.\, we’ll be meeting at the Meadow lot for the 37th annual Leatherman’s Loop. Cobweb Crew meets at 5:00 a.m. No Rookie Runners session or official 7:00 a.m. start this week. \nLearn more and check out the opportunities to volunteer at LeathermansLoop.org \nDon’t forget to ARRIVE EARLY! Please plan to arrive at the park before 8:15 a.m. — or even earlier if you can swing it. \nFor more information\, visit leathermansloop.org \n\nPrint Map Download the PDF
URL:https://sundayruns.org/run/37th-annual-leathermans-loop/
LOCATION:Ward Pound Ridge Reservation\, Meadow Lot\, Reservation Road\, Pound Ridge\, NY\, 10576\, United States
CATEGORIES:Trail Mix Races
ATTACH;FMTTYPE=image/jpeg:https://sundayruns.org/wp-content/uploads/2015/04/LoopGraphic.jpg
ORGANIZER;CN="Sunday Runs":MAILTO:info@sundayruns.org
END:VEVENT
BEGIN:VEVENT
DTSTART;TZID=America/New_York:20250429T053000
DTEND;TZID=America/New_York:20250429T070000
DTSTAMP:20260425T234825
CREATED:20230529T143510Z
LAST-MODIFIED:20230529T143510Z
UID:29996-1745904600-1745910000@sundayruns.org
SUMMARY:Trail Tuesday
DESCRIPTION:Looking for a mid-week run? Meet at Ward Pound Ridge Reservation\, Michigan Road Lot\, on Tuesdays at 5:30 a.m. for a run finishing up between 7:00 and 7:30. It’s a great way to get your run in early.
URL:https://sundayruns.org/run/trail-tuesday-2-2025-04-29/
LOCATION:Ward Pound Ridge Reservation\, Michigan Road Lot\, Michigan Road\, Pound Ridge\, NY\, 10576\, United States
CATEGORIES:Runs
ATTACH;FMTTYPE=image/jpeg:https://sundayruns.org/wp-content/uploads/2021/10/TrailTuesday2022.jpg
ORGANIZER;CN="Sunday Runs":MAILTO:info@sundayruns.org
END:VEVENT
BEGIN:VEVENT
DTSTART;TZID=America/New_York:20250430T053000
DTEND;TZID=America/New_York:20250430T070000
DTSTAMP:20260425T234825
CREATED:20250316T160723Z
LAST-MODIFIED:20250316T160723Z
UID:31831-1745991000-1745996400@sundayruns.org
SUMMARY:Workout Wednesday—Trailside Museum
DESCRIPTION:Are you looking to amp up your running? Add hill repeats and speed work on Wednesdays at 5:30 a.m. This week\, meet at Ward Pound Ridge Reservation\, Trailside Museum Lot\, at 5:30 a.m.\, for 90 minutes of Hill Repeats. At a 10% average incline\, the FH to Lean-to 7 segment (Happy Ending on Strava—don’t ask!) is less steep than Blue but also less technical.
URL:https://sundayruns.org/run/workout-wednesday-trailside-museum-4-30-25/
LOCATION:Trailside Museum\, Reservation Road\, Pound Ridge\, NY\, 10576\, United States
CATEGORIES:Runs
ATTACH;FMTTYPE=image/jpeg:https://sundayruns.org/wp-content/uploads/2022/12/workout-wednesday.jpg
ORGANIZER;CN="Sunday Runs":MAILTO:info@sundayruns.org
END:VEVENT
BEGIN:VEVENT
DTSTART;TZID=America/New_York:20250430T190000
DTEND;TZID=America/New_York:20250430T203000
DTSTAMP:20260425T234825
CREATED:20250207T174058Z
LAST-MODIFIED:20250207T174452Z
UID:31706-1746039600-1746045000@sundayruns.org
SUMMARY:Trail Running Film Festival
DESCRIPTION:On Wednesday\, April 30\, at 7:00 p.m.\, join the Leatherman Harriers\, the trail running community\, film buffs\, and anyone who wants to see good stories\, at the Trail Running Film Festival at Bedford Playhouse. This one-night-only event brings to life great tales from the running community but you don’t need to be a trail runner to enjoy an evening of fun and camaraderie. Tickets are on sale at the Bedford Playhouse. General admission seating only; reserve your tickets in advance. \nThe Bedford Playhouse offers noshes and a full bar so plan to come and relax for this two-hour festival of shorts. Visit the Bedford Playhouse site for more info ›› \nTickets on sale ›› | Trail Running Film Festival ›› \n\nTRFF 2025 Global Tour Trailer ››.
URL:https://sundayruns.org/run/trail-running-film-festival-2025/
LOCATION:Bedford Playhouse\, 633 Old Post Rd\, Bedford\, 10506\, United States
CATEGORIES:Event
ATTACH;FMTTYPE=image/jpeg:https://sundayruns.org/wp-content/uploads/2025/02/trff2025.jpg
ORGANIZER;CN="Sunday Runs":MAILTO:info@sundayruns.org
END:VEVENT
END:VCALENDAR