BEGIN:VCALENDAR
VERSION:2.0
PRODID:-//Sunday Runs with the Leatherman Harriers - ECPv6.15.13//NONSGML v1.0//EN
CALSCALE:GREGORIAN
METHOD:PUBLISH
X-ORIGINAL-URL:https://sundayruns.org
X-WR-CALDESC:Events for Sunday Runs with the Leatherman Harriers
REFRESH-INTERVAL;VALUE=DURATION:PT1H
X-Robots-Tag:noindex
X-PUBLISHED-TTL:PT1H
BEGIN:VTIMEZONE
TZID:America/New_York
BEGIN:DAYLIGHT
TZOFFSETFROM:-0500
TZOFFSETTO:-0400
TZNAME:EDT
DTSTART:20240310T070000
END:DAYLIGHT
BEGIN:STANDARD
TZOFFSETFROM:-0400
TZOFFSETTO:-0500
TZNAME:EST
DTSTART:20241103T060000
END:STANDARD
BEGIN:DAYLIGHT
TZOFFSETFROM:-0500
TZOFFSETTO:-0400
TZNAME:EDT
DTSTART:20250309T070000
END:DAYLIGHT
BEGIN:STANDARD
TZOFFSETFROM:-0400
TZOFFSETTO:-0500
TZNAME:EST
DTSTART:20251102T060000
END:STANDARD
BEGIN:DAYLIGHT
TZOFFSETFROM:-0500
TZOFFSETTO:-0400
TZNAME:EDT
DTSTART:20260308T070000
END:DAYLIGHT
BEGIN:STANDARD
TZOFFSETFROM:-0400
TZOFFSETTO:-0500
TZNAME:EST
DTSTART:20261101T060000
END:STANDARD
END:VTIMEZONE
BEGIN:VEVENT
DTSTART;TZID=America/New_York:20251101T070000
DTEND;TZID=America/New_York:20251101T090000
DTSTAMP:20260425T115557
CREATED:20251027T200542Z
LAST-MODIFIED:20251027T200643Z
UID:33452-1761980400-1761987600@sundayruns.org
SUMMARY:Stark Raven Mad
DESCRIPTION:On Saturday\,November 1\, at 7:00 a.m.\, meet at Ward Pound Ridge Reservation\, Michigan Road Lot\, ready to run a course that’s Stark Raven Mad. This 6.2-mile course ushers in Ravember and follows the Raven Rocks course but starts at Michigan Road. You also have options for longer (8-mile) and shorter (5-mile) distances. This is your first chance to run the Raven Rocks course this season but it won’t be the last. Early Risers start at 6:00. \n\nPrint Map Download the PDF\n \nFrom the archives: Last time we ran this course was November 30\, 2024
URL:https://sundayruns.org/run/stark-raven-mad-11-2025/
LOCATION:Ward Pound Ridge Reservation\, Michigan Road Lot\, Michigan Road\, Pound Ridge\, NY\, 10576\, United States
CATEGORIES:Runs
ATTACH;FMTTYPE=image/jpeg:https://sundayruns.org/wp-content/uploads/2020/05/michigan_road_general.jpg
ORGANIZER;CN="Sunday Runs":MAILTO:info@sundayruns.org
END:VEVENT
BEGIN:VEVENT
DTSTART;TZID=America/New_York:20251102T080000
DTEND;TZID=America/New_York:20251102T093000
DTSTAMP:20260425T115557
CREATED:20251027T194528Z
LAST-MODIFIED:20251027T194528Z
UID:33440-1762070400-1762075800@sundayruns.org
SUMMARY:Raven Rocks Course Check
DESCRIPTION:On Sunday\, November 2\, at 8:00 a.m.\, meet at Ward Pound Ridge Reservation\, Meadow Lot\, ready to run the Raven Rocks Course. This is your one chance to check out the course before the race which is just a week away. Cobweb Crew starts at 5:00; Early Risers start at 7:00 for a few extra miles. \nRookie Runners start at 7:00 for a shorter distance and easier pace.Walkers/Hikers start at 8:00 on a short course of around 4 miles. \n\nPrint Map Download the PDF  Download the KML Download the GPX
URL:https://sundayruns.org/run/raven-rocks-course-check-2025/
LOCATION:Ward Pound Ridge Reservation\, Meadow Lot\, Reservation Road\, Pound Ridge\, NY\, 10576\, United States
CATEGORIES:Runs
ATTACH;FMTTYPE=image/jpeg:https://sundayruns.org/wp-content/uploads/2019/08/ravenrocks_coursecheck_2019.jpg
ORGANIZER;CN="Sunday Runs":MAILTO:info@sundayruns.org
END:VEVENT
BEGIN:VEVENT
DTSTART;TZID=America/New_York:20251104T053000
DTEND;TZID=America/New_York:20251104T070000
DTSTAMP:20260425T115557
CREATED:20230529T143510Z
LAST-MODIFIED:20250827T130339Z
UID:33159-1762234200-1762239600@sundayruns.org
SUMMARY:Trail Tuesday
DESCRIPTION:Looking for a mid-week run? Meet at Ward Pound Ridge Reservation\, Michigan Road Lot\, on Tuesdays at 5:30 a.m. for a run finishing up between 7:00 and 7:30. It’s a great way to get your run in early.
URL:https://sundayruns.org/run/trail-tuesday-2-2025-09-16-2025-11-04/
LOCATION:Ward Pound Ridge Reservation\, Michigan Road Lot\, Michigan Road\, Pound Ridge\, NY\, 10576\, United States
CATEGORIES:Runs
ATTACH;FMTTYPE=image/jpeg:https://sundayruns.org/wp-content/uploads/2021/10/TrailTuesday2022.jpg
ORGANIZER;CN="Sunday Runs":MAILTO:info@sundayruns.org
END:VEVENT
BEGIN:VEVENT
DTSTART;TZID=America/New_York:20251105T053000
DTEND;TZID=America/New_York:20251105T070000
DTSTAMP:20260425T115557
CREATED:20250608T163914Z
LAST-MODIFIED:20250608T163914Z
UID:33145-1762320600-1762326000@sundayruns.org
SUMMARY:Workout Wednesday—Kimberly Bridge
DESCRIPTION:Are you looking to amp up your running? Add hill repeats and speed work on Wednesdays at 5:30 a.m. This week\, meet at Ward Pound Ridge Reservation\, Kimberly Bridge Lot\, at 5:30 a.m.\, for 90 minutes of Hill Repeats. At a 13% average incline\, the Blue Hill segment is one of the steepest in the Rez and the perfect training ground for any upcoming race. The .6 mile uphill contains just over 400 feet of vertical gain while the downhill is a great quad-shredding exercise. If you need to train with poles\, this is a good course to do so. We’ll aim for 4 or 5 repeats and see what we have left after that.
URL:https://sundayruns.org/run/workout-wednesday-trailside-museum-2025-2025-07-02-2025-09-03-2025-11-05/
LOCATION:Ward Pound Ridge Reservation\, Kimberly Bridge\, Reservation Road\, Pound Ridge\, NY\, 10576\, United States
CATEGORIES:Runs
ATTACH;FMTTYPE=image/jpeg:https://sundayruns.org/wp-content/uploads/2022/12/workout-wednesday.jpg
ORGANIZER;CN="Sunday Runs":MAILTO:info@sundayruns.org
END:VEVENT
BEGIN:VEVENT
DTSTART;TZID=America/New_York:20251106T053000
DTEND;TZID=America/New_York:20251106T070000
DTSTAMP:20260425T115557
CREATED:20211015T175155Z
LAST-MODIFIED:20250205T140931Z
UID:31355-1762407000-1762412400@sundayruns.org
SUMMARY:Trail Thursday
DESCRIPTION:Looking for a mid-week run? Meet at Ward Pound Ridge Reservation\, Michigan Road Lot\, on Thursdays at 5:30 a.m. for a run finishing up at 7:00.
URL:https://sundayruns.org/run/trail-thursday-2022-2022-09-22-2023-11-23-2025-11-06/
LOCATION:Ward Pound Ridge Reservation\, Michigan Road Lot\, Michigan Road\, Pound Ridge\, NY\, 10576\, United States
CATEGORIES:Runs
ATTACH;FMTTYPE=image/jpeg:https://sundayruns.org/wp-content/uploads/2021/10/TrailThursday2022.jpg
ORGANIZER;CN="Sunday Runs":MAILTO:info@sundayruns.org
END:VEVENT
BEGIN:VEVENT
DTSTART;TZID=America/New_York:20251108T070000
DTEND;TZID=America/New_York:20251108T090000
DTSTAMP:20260425T115557
CREATED:20251106T203746Z
LAST-MODIFIED:20251106T203858Z
UID:33469-1762585200-1762592400@sundayruns.org
SUMMARY:Nevermore Museum
DESCRIPTION:On Saturday\, November 8\, at 7:00 a.m.\, meet at Ward Pound Ridge Reservation\, Trailside Museum Lot\, when we run a new variation of the Nevermore Loop. You’ll recognize this as the Raven Rocks course except the course is reversed and starts at the Trailside Museum. Early Risers start at 6:00 for a few extra miles. \n\nPrint Map Download the PDF
URL:https://sundayruns.org/run/nevermore-museum/
LOCATION:Trailside Museum\, Reservation Road\, Pound Ridge\, NY\, 10576\, United States
CATEGORIES:Runs
ATTACH;FMTTYPE=image/jpeg:https://sundayruns.org/wp-content/uploads/2020/11/featured_nevermore.jpg
ORGANIZER;CN="Sunday Runs":MAILTO:info@sundayruns.org
END:VEVENT
BEGIN:VEVENT
DTSTART;TZID=America/New_York:20251109T090000
DTEND;TZID=America/New_York:20251109T110000
DTSTAMP:20260425T115557
CREATED:20251027T195823Z
LAST-MODIFIED:20251106T212121Z
UID:33450-1762678800-1762686000@sundayruns.org
SUMMARY:Raven Rocks Run
DESCRIPTION:On Sunday\, November 9\, at 9:00 a.m.\, meet at Ward Pound Ridge Reservation\, Meadow Lot\, ready to run The Raven Rocks Run—a challenging 10k trail race. This year\, run the race and join the Raven 100K Challenge and collect as many badges as you can over the course of the month. Register here \nCobweb Crew starts at 5:00 for a course check; Early Risers start at 7:00 for a second check. \n\nPrint Map Download the PDF  Download the KML Download the GPX
URL:https://sundayruns.org/run/raven-rocks-run_2025/
LOCATION:Ward Pound Ridge Reservation\, Meadow Lot\, Reservation Road\, Pound Ridge\, NY\, 10576\, United States
CATEGORIES:Races,Runs,Trail Mix Races
ATTACH;FMTTYPE=image/jpeg:https://sundayruns.org/wp-content/uploads/2021/10/raven-rocks-run-2021.jpg
ORGANIZER;CN="Sunday Runs":MAILTO:info@sundayruns.org
END:VEVENT
BEGIN:VEVENT
DTSTART;TZID=America/New_York:20251111T053000
DTEND;TZID=America/New_York:20251111T070000
DTSTAMP:20260425T115557
CREATED:20230529T143510Z
LAST-MODIFIED:20250827T130339Z
UID:33160-1762839000-1762844400@sundayruns.org
SUMMARY:Trail Tuesday
DESCRIPTION:Looking for a mid-week run? Meet at Ward Pound Ridge Reservation\, Michigan Road Lot\, on Tuesdays at 5:30 a.m. for a run finishing up between 7:00 and 7:30. It’s a great way to get your run in early.
URL:https://sundayruns.org/run/trail-tuesday-2-2025-09-16-2025-11-11/
LOCATION:Ward Pound Ridge Reservation\, Michigan Road Lot\, Michigan Road\, Pound Ridge\, NY\, 10576\, United States
CATEGORIES:Runs
ATTACH;FMTTYPE=image/jpeg:https://sundayruns.org/wp-content/uploads/2021/10/TrailTuesday2022.jpg
ORGANIZER;CN="Sunday Runs":MAILTO:info@sundayruns.org
END:VEVENT
BEGIN:VEVENT
DTSTART;TZID=America/New_York:20251112T053000
DTEND;TZID=America/New_York:20251112T070000
DTSTAMP:20260425T115557
CREATED:20250608T163914Z
LAST-MODIFIED:20250608T163914Z
UID:33146-1762925400-1762930800@sundayruns.org
SUMMARY:Workout Wednesday—Kimberly Bridge
DESCRIPTION:Are you looking to amp up your running? Add hill repeats and speed work on Wednesdays at 5:30 a.m. This week\, meet at Ward Pound Ridge Reservation\, Kimberly Bridge Lot\, at 5:30 a.m.\, for 90 minutes of Hill Repeats. At a 13% average incline\, the Blue Hill segment is one of the steepest in the Rez and the perfect training ground for any upcoming race. The .6 mile uphill contains just over 400 feet of vertical gain while the downhill is a great quad-shredding exercise. If you need to train with poles\, this is a good course to do so. We’ll aim for 4 or 5 repeats and see what we have left after that.
URL:https://sundayruns.org/run/workout-wednesday-trailside-museum-2025-2025-07-02-2025-09-03-2025-11-12/
LOCATION:Ward Pound Ridge Reservation\, Kimberly Bridge\, Reservation Road\, Pound Ridge\, NY\, 10576\, United States
CATEGORIES:Runs
ATTACH;FMTTYPE=image/jpeg:https://sundayruns.org/wp-content/uploads/2022/12/workout-wednesday.jpg
ORGANIZER;CN="Sunday Runs":MAILTO:info@sundayruns.org
END:VEVENT
BEGIN:VEVENT
DTSTART;TZID=America/New_York:20251113T053000
DTEND;TZID=America/New_York:20251113T070000
DTSTAMP:20260425T115557
CREATED:20211015T175155Z
LAST-MODIFIED:20250205T140932Z
UID:31356-1763011800-1763017200@sundayruns.org
SUMMARY:Trail Thursday
DESCRIPTION:Looking for a mid-week run? Meet at Ward Pound Ridge Reservation\, Michigan Road Lot\, on Thursdays at 5:30 a.m. for a run finishing up at 7:00.
URL:https://sundayruns.org/run/trail-thursday-2022-2022-09-22-2023-11-23-2025-11-13/
LOCATION:Ward Pound Ridge Reservation\, Michigan Road Lot\, Michigan Road\, Pound Ridge\, NY\, 10576\, United States
CATEGORIES:Runs
ATTACH;FMTTYPE=image/jpeg:https://sundayruns.org/wp-content/uploads/2021/10/TrailThursday2022.jpg
ORGANIZER;CN="Sunday Runs":MAILTO:info@sundayruns.org
END:VEVENT
BEGIN:VEVENT
DTSTART;TZID=America/New_York:20251115T070000
DTEND;TZID=America/New_York:20251115T090000
DTSTAMP:20260425T115557
CREATED:20251111T213421Z
LAST-MODIFIED:20251111T213421Z
UID:33543-1763190000-1763197200@sundayruns.org
SUMMARY:Michigan Road "Stairmaster"
DESCRIPTION:On Saturday\, November 15\, at 7:00 a.m.\, meet at Ward Pound Ridge Michigan Road Lot ready to run the Michigan to Spy Rock 7 Mile Loop\, or as I like to call it\, The Stairmaster. This course starts up the FH trail and heads over the Magic Stairs before turning south past Castle Rock and up The Stairs to Spy Rock. Options for shorter distances if you want as well. Early Risers start at 6:00 for a few extra miles. \n\nPrint Map Download the PDF\n \nLast time we ran this course: June 15
URL:https://sundayruns.org/run/michigan-road-stairmaster-11-2025/
LOCATION:Ward Pound Ridge Reservation\, Michigan Road Lot\, Michigan Road\, Pound Ridge\, NY\, 10576\, United States
CATEGORIES:Runs
ATTACH;FMTTYPE=image/jpeg:https://sundayruns.org/wp-content/uploads/2019/01/stairmaster_large.jpg
ORGANIZER;CN="Sunday Runs":MAILTO:info@sundayruns.org
END:VEVENT
BEGIN:VEVENT
DTSTART;TZID=America/New_York:20251116T080000
DTEND;TZID=America/New_York:20251116T100000
DTSTAMP:20260425T115557
CREATED:20251027T194942Z
LAST-MODIFIED:20251027T195542Z
UID:33442-1763280000-1763287200@sundayruns.org
SUMMARY:Nevermore
DESCRIPTION:On Sunday\, November 16\, at 8:00 a.m.\, meet at Ward Pound Ridge Reservation\, Meadow Lot\, when Ravember continues with the the Nevermore Loop. You’ll recognize this as the Raven Rocks course except this time\, run the course in reverse\, heading toward the Trailside Museum first and ending via the yellow trail. If you had fun going up the rock scramble on Blue\, you’re going to love going down it. Cobweb crew starts at 5:00; Early risers at 7:00.  \nRookie runners start at 7:00 for a shorter loop and an easier pace. Walkers/Hikers start at 8:00 on a short course of around 4 miles.\n \n\nPrint Map Download the PDF \n \nFrom the archives: we ran this course November 17\, 2024
URL:https://sundayruns.org/run/nevermore-11-2025/
LOCATION:Ward Pound Ridge Reservation\, Meadow Lot\, Reservation Road\, Pound Ridge\, NY\, 10576\, United States
CATEGORIES:Runs
ATTACH;FMTTYPE=image/jpeg:https://sundayruns.org/wp-content/uploads/2020/11/featured_nevermore.jpg
ORGANIZER;CN="Sunday Runs":MAILTO:info@sundayruns.org
END:VEVENT
BEGIN:VEVENT
DTSTART;TZID=America/New_York:20251118T053000
DTEND;TZID=America/New_York:20251118T070000
DTSTAMP:20260425T115557
CREATED:20230529T143510Z
LAST-MODIFIED:20250827T130339Z
UID:33161-1763443800-1763449200@sundayruns.org
SUMMARY:Trail Tuesday
DESCRIPTION:Looking for a mid-week run? Meet at Ward Pound Ridge Reservation\, Michigan Road Lot\, on Tuesdays at 5:30 a.m. for a run finishing up between 7:00 and 7:30. It’s a great way to get your run in early.
URL:https://sundayruns.org/run/trail-tuesday-2-2025-09-16-2025-11-18/
LOCATION:Ward Pound Ridge Reservation\, Michigan Road Lot\, Michigan Road\, Pound Ridge\, NY\, 10576\, United States
CATEGORIES:Runs
ATTACH;FMTTYPE=image/jpeg:https://sundayruns.org/wp-content/uploads/2021/10/TrailTuesday2022.jpg
ORGANIZER;CN="Sunday Runs":MAILTO:info@sundayruns.org
END:VEVENT
BEGIN:VEVENT
DTSTART;TZID=America/New_York:20251119T053000
DTEND;TZID=America/New_York:20251119T070000
DTSTAMP:20260425T115557
CREATED:20250608T163914Z
LAST-MODIFIED:20250608T163914Z
UID:33147-1763530200-1763535600@sundayruns.org
SUMMARY:Workout Wednesday—Kimberly Bridge
DESCRIPTION:Are you looking to amp up your running? Add hill repeats and speed work on Wednesdays at 5:30 a.m. This week\, meet at Ward Pound Ridge Reservation\, Kimberly Bridge Lot\, at 5:30 a.m.\, for 90 minutes of Hill Repeats. At a 13% average incline\, the Blue Hill segment is one of the steepest in the Rez and the perfect training ground for any upcoming race. The .6 mile uphill contains just over 400 feet of vertical gain while the downhill is a great quad-shredding exercise. If you need to train with poles\, this is a good course to do so. We’ll aim for 4 or 5 repeats and see what we have left after that.
URL:https://sundayruns.org/run/workout-wednesday-trailside-museum-2025-2025-07-02-2025-09-03-2025-11-19/
LOCATION:Ward Pound Ridge Reservation\, Kimberly Bridge\, Reservation Road\, Pound Ridge\, NY\, 10576\, United States
CATEGORIES:Runs
ATTACH;FMTTYPE=image/jpeg:https://sundayruns.org/wp-content/uploads/2022/12/workout-wednesday.jpg
ORGANIZER;CN="Sunday Runs":MAILTO:info@sundayruns.org
END:VEVENT
BEGIN:VEVENT
DTSTART;TZID=America/New_York:20251120T053000
DTEND;TZID=America/New_York:20251120T070000
DTSTAMP:20260425T115557
CREATED:20211015T175155Z
LAST-MODIFIED:20250205T140932Z
UID:31357-1763616600-1763622000@sundayruns.org
SUMMARY:Trail Thursday
DESCRIPTION:Looking for a mid-week run? Meet at Ward Pound Ridge Reservation\, Michigan Road Lot\, on Thursdays at 5:30 a.m. for a run finishing up at 7:00.
URL:https://sundayruns.org/run/trail-thursday-2022-2022-09-22-2023-11-23-2025-11-20/
LOCATION:Ward Pound Ridge Reservation\, Michigan Road Lot\, Michigan Road\, Pound Ridge\, NY\, 10576\, United States
CATEGORIES:Runs
ATTACH;FMTTYPE=image/jpeg:https://sundayruns.org/wp-content/uploads/2021/10/TrailThursday2022.jpg
ORGANIZER;CN="Sunday Runs":MAILTO:info@sundayruns.org
END:VEVENT
BEGIN:VEVENT
DTSTART;TZID=America/New_York:20251122T070000
DTEND;TZID=America/New_York:20251122T090000
DTSTAMP:20260425T115557
CREATED:20251119T214040Z
LAST-MODIFIED:20251119T214040Z
UID:33570-1763794800-1763802000@sundayruns.org
SUMMARY:Loops of Levy
DESCRIPTION:On Saturday\, November 22\, at 7:00 a.m.\, meet at the Leon Levy Preserve lot\, 2-50 Smith Ridge Rd\, South Salem\, NY (that’s the closest Google Maps will give me)\, ready to run a convoluted course of around 7 miles and using every trail in the park including the Levy East half mile extension. Early Risers start at 6:00 for an additional 4 miles. \n Note that the pin above may not be entirely accurate. \n\nPrint Map Download the PDF\n \nThe last time we ran this course was August 23\, 2025
URL:https://sundayruns.org/run/loops-of-levy-11-2025/
LOCATION:Leon Levy Preserve\, 2-50 Smith Ridge Rd.\, South Salem\, NY\, 10590-1701\, United States
CATEGORIES:Runs
ATTACH;FMTTYPE=image/jpeg:https://sundayruns.org/wp-content/uploads/2018/07/featured_Levy.jpg
ORGANIZER;CN="Sunday Runs":MAILTO:info@sundayruns.org
END:VEVENT
BEGIN:VEVENT
DTSTART;TZID=America/New_York:20251123T080000
DTEND;TZID=America/New_York:20251123T100000
DTSTAMP:20260425T115557
CREATED:20251119T224148Z
LAST-MODIFIED:20251119T224148Z
UID:33572-1763884800-1763892000@sundayruns.org
SUMMARY:Leather Raven
DESCRIPTION:On Sunday\, November 23\, at 8:00 a.m.\, meet at Ward Pound Ridge Reservation\, Meadow Lot\, ready to run the ultimate in courses—the Leather Raven. While the full course is 12 miles\, you have shorter options. All courses start in the direction of the Leatherman’s Loop and end like Raven Rocks but each takes different turns depending on distance. Complete all courses and you may have a 50k\, but I’ll save that for another day. Cobweb crew starts at 5:00; Early risers at 7:00 .  \n\nRookie runners start at 7:00 for a shorter loop and an easier pace.Walkers/Hikers start at 8:00 on a short course of around 4 miles. \nHope to see you out there this weekend.\nLee Willett \n\nPrint Map Download the PDF\n \nThe last time we ran this course was November 20\, 2022
URL:https://sundayruns.org/run/leather-raven-11-2025/
LOCATION:Ward Pound Ridge Reservation\, Meadow Lot\, Reservation Road\, Pound Ridge\, NY\, 10576\, United States
CATEGORIES:Runs
ATTACH;FMTTYPE=image/jpeg:https://sundayruns.org/wp-content/uploads/2020/11/featured_leatherraven.jpg
ORGANIZER;CN="Sunday Runs":MAILTO:info@sundayruns.org
END:VEVENT
BEGIN:VEVENT
DTSTART;TZID=America/New_York:20251125T053000
DTEND;TZID=America/New_York:20251125T070000
DTSTAMP:20260425T115557
CREATED:20230529T143510Z
LAST-MODIFIED:20250827T130339Z
UID:33162-1764048600-1764054000@sundayruns.org
SUMMARY:Trail Tuesday
DESCRIPTION:Looking for a mid-week run? Meet at Ward Pound Ridge Reservation\, Michigan Road Lot\, on Tuesdays at 5:30 a.m. for a run finishing up between 7:00 and 7:30. It’s a great way to get your run in early.
URL:https://sundayruns.org/run/trail-tuesday-2-2025-09-16-2025-11-25/
LOCATION:Ward Pound Ridge Reservation\, Michigan Road Lot\, Michigan Road\, Pound Ridge\, NY\, 10576\, United States
CATEGORIES:Runs
ATTACH;FMTTYPE=image/jpeg:https://sundayruns.org/wp-content/uploads/2021/10/TrailTuesday2022.jpg
ORGANIZER;CN="Sunday Runs":MAILTO:info@sundayruns.org
END:VEVENT
BEGIN:VEVENT
DTSTART;TZID=America/New_York:20251126T053000
DTEND;TZID=America/New_York:20251126T070000
DTSTAMP:20260425T115557
CREATED:20250608T163914Z
LAST-MODIFIED:20250608T163914Z
UID:33148-1764135000-1764140400@sundayruns.org
SUMMARY:Workout Wednesday—Kimberly Bridge
DESCRIPTION:Are you looking to amp up your running? Add hill repeats and speed work on Wednesdays at 5:30 a.m. This week\, meet at Ward Pound Ridge Reservation\, Kimberly Bridge Lot\, at 5:30 a.m.\, for 90 minutes of Hill Repeats. At a 13% average incline\, the Blue Hill segment is one of the steepest in the Rez and the perfect training ground for any upcoming race. The .6 mile uphill contains just over 400 feet of vertical gain while the downhill is a great quad-shredding exercise. If you need to train with poles\, this is a good course to do so. We’ll aim for 4 or 5 repeats and see what we have left after that.
URL:https://sundayruns.org/run/workout-wednesday-trailside-museum-2025-2025-07-02-2025-09-03-2025-11-26/
LOCATION:Ward Pound Ridge Reservation\, Kimberly Bridge\, Reservation Road\, Pound Ridge\, NY\, 10576\, United States
CATEGORIES:Runs
ATTACH;FMTTYPE=image/jpeg:https://sundayruns.org/wp-content/uploads/2022/12/workout-wednesday.jpg
ORGANIZER;CN="Sunday Runs":MAILTO:info@sundayruns.org
END:VEVENT
BEGIN:VEVENT
DTSTART;TZID=America/New_York:20251127T053000
DTEND;TZID=America/New_York:20251127T070000
DTSTAMP:20260425T115557
CREATED:20211015T175155Z
LAST-MODIFIED:20250205T140932Z
UID:31358-1764221400-1764226800@sundayruns.org
SUMMARY:Trail Thursday
DESCRIPTION:Looking for a mid-week run? Meet at Ward Pound Ridge Reservation\, Michigan Road Lot\, on Thursdays at 5:30 a.m. for a run finishing up at 7:00.
URL:https://sundayruns.org/run/trail-thursday-2022-2022-09-22-2023-11-23-2025-11-27/
LOCATION:Ward Pound Ridge Reservation\, Michigan Road Lot\, Michigan Road\, Pound Ridge\, NY\, 10576\, United States
CATEGORIES:Runs
ATTACH;FMTTYPE=image/jpeg:https://sundayruns.org/wp-content/uploads/2021/10/TrailThursday2022.jpg
ORGANIZER;CN="Sunday Runs":MAILTO:info@sundayruns.org
END:VEVENT
BEGIN:VEVENT
DTSTART;TZID=America/New_York:20251128T070000
DTEND;TZID=America/New_York:20251128T084500
DTSTAMP:20260425T115557
CREATED:20251121T195959Z
LAST-MODIFIED:20251121T195959Z
UID:33585-1764313200-1764319500@sundayruns.org
SUMMARY:Zofnass Family Preserve Run
DESCRIPTION:This Friday\, November 28\, at 7:00 a.m\, meet at the Zofnass Family Preserve on Upper Shad Road in Pound Ridge (see Google Map) when we run everyone’s favorite labyrinthian preserve with a network of trails noted for its crags and rock outcrops. Meet at the main entrance and we’ll follow a perimeter loop making all right turns except for exiting the park. We’ll make a 6-mile loop counter-clockwise around the preserve excluding the orange\, western loop. If you’re looking to turn this into a long run\, explore the Zofnass to Mianus River Gorge run of 16 miles or\, maybe\, we can drive over to Mianus River Gorge for a short 4-mile out-and-back\, you know\, just for fun.  \nPrint Map  Download the PDF\n \nLast time we ran this course was November 29\, 2024
URL:https://sundayruns.org/run/zofnass-family-preserve-run-11-2025/
LOCATION:Zofnass Family Preserve\, 258 Upper Shad Rd.\, Pound Ridge\, NY\, 10576\, United States
CATEGORIES:Runs
ATTACH;FMTTYPE=image/jpeg:https://sundayruns.org/wp-content/uploads/2015/03/zofnass.jpg
ORGANIZER;CN="Sunday Runs":MAILTO:info@sundayruns.org
END:VEVENT
BEGIN:VEVENT
DTSTART;TZID=America/New_York:20251129T070000
DTEND;TZID=America/New_York:20251129T090000
DTSTAMP:20260425T115557
CREATED:20251126T231219Z
LAST-MODIFIED:20251126T231305Z
UID:33607-1764399600-1764406800@sundayruns.org
SUMMARY:Michigan 4-4-6-7
DESCRIPTION:On Saturday\, November 29\, at 7:00 a.m.\, meet at Ward Pound Ridge Reservation\, Michigan Road Lot\, ready to run all or part of the Michigan 4-4-6-7 course. Cobweb crew starts at 5:00 a.m. with the red loop on the map. Early Risers start at 6:00 a.m. on the Green loop. At 7:00\, we’ll run the 7-mile course in blue. Those looking for a longer run can continue on the 6-mile loop for 21 miles total.  \n\nPrint Map Download the PDF
URL:https://sundayruns.org/run/michigan-4-4-6-7/
LOCATION:Ward Pound Ridge Reservation\, Michigan Road Lot\, Michigan Road\, Pound Ridge\, NY\, 10576\, United States
CATEGORIES:Runs
ATTACH;FMTTYPE=image/jpeg:https://sundayruns.org/wp-content/uploads/2017/08/michiganMultiloop.jpg
ORGANIZER;CN="Sunday Runs":MAILTO:info@sundayruns.org
END:VEVENT
BEGIN:VEVENT
DTSTART;TZID=America/New_York:20251130T080000
DTEND;TZID=America/New_York:20251130T100000
DTSTAMP:20260425T115557
CREATED:20251121T195608Z
LAST-MODIFIED:20251121T195608Z
UID:33583-1764489600-1764496800@sundayruns.org
SUMMARY:Fat Ass & Fat Raven Run
DESCRIPTION:This Sunday\, November 30\, at 8:00 a.m\, meet at the Lewisboro Town Park upper parking lot (see map) when we  run a perennial favorite—the Fat Ass Run. The course offers distances of 3.5\, 7\, 8.5\, and the 9.5 Fat Raven course. Cobweb Crew starts at 5:00 a.m.; Early Risers at 7:00 a.m. \nRookie Runners start at 7:00 a.m. for a shorter course and easier pace.Walkers/Hikers start at 8:00 on a short course of around 4 miles.\n \n\nHope to see you out there this weekend. \n\nPrint Map Download the PDF\n \nLast time we ran this course was November 24\, 2024.
URL:https://sundayruns.org/run/fat-ass-fat-raven-run-11-2025/
LOCATION:Lewisboro Town Park\, Upper Lot\, 1091 Old Post Road\, Cross River\, NY\, 10590\, United States
CATEGORIES:Runs
ATTACH;FMTTYPE=image/jpeg:https://sundayruns.org/wp-content/uploads/2012/11/fatassrun.jpg
ORGANIZER;CN="Sunday Runs":MAILTO:info@sundayruns.org
END:VEVENT
END:VCALENDAR