BEGIN:VCALENDAR
VERSION:2.0
PRODID:-//Sunday Runs with the Leatherman Harriers - ECPv6.15.13//NONSGML v1.0//EN
CALSCALE:GREGORIAN
METHOD:PUBLISH
X-ORIGINAL-URL:https://sundayruns.org
X-WR-CALDESC:Events for Sunday Runs with the Leatherman Harriers
REFRESH-INTERVAL;VALUE=DURATION:PT1H
X-Robots-Tag:noindex
X-PUBLISHED-TTL:PT1H
BEGIN:VTIMEZONE
TZID:America/New_York
BEGIN:DAYLIGHT
TZOFFSETFROM:-0500
TZOFFSETTO:-0400
TZNAME:EDT
DTSTART:20240310T070000
END:DAYLIGHT
BEGIN:STANDARD
TZOFFSETFROM:-0400
TZOFFSETTO:-0500
TZNAME:EST
DTSTART:20241103T060000
END:STANDARD
BEGIN:DAYLIGHT
TZOFFSETFROM:-0500
TZOFFSETTO:-0400
TZNAME:EDT
DTSTART:20250309T070000
END:DAYLIGHT
BEGIN:STANDARD
TZOFFSETFROM:-0400
TZOFFSETTO:-0500
TZNAME:EST
DTSTART:20251102T060000
END:STANDARD
BEGIN:DAYLIGHT
TZOFFSETFROM:-0500
TZOFFSETTO:-0400
TZNAME:EDT
DTSTART:20260308T070000
END:DAYLIGHT
BEGIN:STANDARD
TZOFFSETFROM:-0400
TZOFFSETTO:-0500
TZNAME:EST
DTSTART:20261101T060000
END:STANDARD
END:VTIMEZONE
BEGIN:VEVENT
DTSTART;TZID=America/New_York:20251202T053000
DTEND;TZID=America/New_York:20251202T070000
DTSTAMP:20260425T100742
CREATED:20230529T143510Z
LAST-MODIFIED:20250827T130340Z
UID:33163-1764653400-1764658800@sundayruns.org
SUMMARY:Trail Tuesday
DESCRIPTION:Looking for a mid-week run? Meet at Ward Pound Ridge Reservation\, Michigan Road Lot\, on Tuesdays at 5:30 a.m. for a run finishing up between 7:00 and 7:30. It’s a great way to get your run in early.
URL:https://sundayruns.org/run/trail-tuesday-2-2025-09-16-2025-12-02/
LOCATION:Ward Pound Ridge Reservation\, Michigan Road Lot\, Michigan Road\, Pound Ridge\, NY\, 10576\, United States
CATEGORIES:Runs
ATTACH;FMTTYPE=image/jpeg:https://sundayruns.org/wp-content/uploads/2021/10/TrailTuesday2022.jpg
ORGANIZER;CN="Sunday Runs":MAILTO:info@sundayruns.org
END:VEVENT
BEGIN:VEVENT
DTSTART;TZID=America/New_York:20251203T053000
DTEND;TZID=America/New_York:20251203T070000
DTSTAMP:20260425T100742
CREATED:20250608T163914Z
LAST-MODIFIED:20250608T163914Z
UID:33149-1764739800-1764745200@sundayruns.org
SUMMARY:Workout Wednesday—Kimberly Bridge
DESCRIPTION:Are you looking to amp up your running? Add hill repeats and speed work on Wednesdays at 5:30 a.m. This week\, meet at Ward Pound Ridge Reservation\, Kimberly Bridge Lot\, at 5:30 a.m.\, for 90 minutes of Hill Repeats. At a 13% average incline\, the Blue Hill segment is one of the steepest in the Rez and the perfect training ground for any upcoming race. The .6 mile uphill contains just over 400 feet of vertical gain while the downhill is a great quad-shredding exercise. If you need to train with poles\, this is a good course to do so. We’ll aim for 4 or 5 repeats and see what we have left after that.
URL:https://sundayruns.org/run/workout-wednesday-trailside-museum-2025-2025-07-02-2025-09-03-2025-12-03/
LOCATION:Ward Pound Ridge Reservation\, Kimberly Bridge\, Reservation Road\, Pound Ridge\, NY\, 10576\, United States
CATEGORIES:Runs
ATTACH;FMTTYPE=image/jpeg:https://sundayruns.org/wp-content/uploads/2022/12/workout-wednesday.jpg
ORGANIZER;CN="Sunday Runs":MAILTO:info@sundayruns.org
END:VEVENT
BEGIN:VEVENT
DTSTART;TZID=America/New_York:20251204T053000
DTEND;TZID=America/New_York:20251204T070000
DTSTAMP:20260425T100742
CREATED:20211015T175155Z
LAST-MODIFIED:20250205T140932Z
UID:31359-1764826200-1764831600@sundayruns.org
SUMMARY:Trail Thursday
DESCRIPTION:Looking for a mid-week run? Meet at Ward Pound Ridge Reservation\, Michigan Road Lot\, on Thursdays at 5:30 a.m. for a run finishing up at 7:00.
URL:https://sundayruns.org/run/trail-thursday-2022-2022-09-22-2023-11-23-2025-12-04/
LOCATION:Ward Pound Ridge Reservation\, Michigan Road Lot\, Michigan Road\, Pound Ridge\, NY\, 10576\, United States
CATEGORIES:Runs
ATTACH;FMTTYPE=image/jpeg:https://sundayruns.org/wp-content/uploads/2021/10/TrailThursday2022.jpg
ORGANIZER;CN="Sunday Runs":MAILTO:info@sundayruns.org
END:VEVENT
BEGIN:VEVENT
DTSTART;TZID=America/New_York:20251206T070000
DTEND;TZID=America/New_York:20251206T083000
DTSTAMP:20260425T100742
CREATED:20251203T191140Z
LAST-MODIFIED:20251203T191140Z
UID:33618-1765004400-1765009800@sundayruns.org
SUMMARY:Michigan to Clark
DESCRIPTION:On Saturday\, December 6\, at 7:00 a.m.\, meet at Ward Pound Ridge Reservation\, Michigan Road Lot\, ready to run the Michigan to Clark course. This 7.5 out-and-back takes us out of the Rez to the adjoining Clark preserve on the southern part of the park where we’ll make a perimeter loop before heading back. Early Risers start at 6:00 for an additional 4 miles before returning to the lot at 7:00.  \n\nPrint Map Download the PDF\n \nThe last time we ran this course was December 28\, 2024
URL:https://sundayruns.org/run/michigan-to-clark-12-2025/
LOCATION:Ward Pound Ridge Reservation\, Michigan Road Lot\, Michigan Road\, Pound Ridge\, NY\, 10576\, United States
CATEGORIES:Runs
ATTACH;FMTTYPE=image/jpeg:https://sundayruns.org/wp-content/uploads/2020/05/michigan_road_general.jpg
END:VEVENT
BEGIN:VEVENT
DTSTART;TZID=America/New_York:20251207T080000
DTEND;TZID=America/New_York:20251207T100000
DTSTAMP:20260425T100742
CREATED:20251203T191637Z
LAST-MODIFIED:20251203T191651Z
UID:33620-1765094400-1765101600@sundayruns.org
SUMMARY:Trailside To Tower
DESCRIPTION:On Sunday\, December 7\, at 8:00 a.m.\, meet at Ward Pound Ridge Reservation\, Trailside Museum Lot\, when we run the classic Trailside to Tower course. We’ll be running this in a counterclockwise direction as shown. Cobweb Crew starts at 5:00; Early Risers at 7:00 for an additional few miles.  \nRookie Runners start at 7:00 a.m. for a shorter course and easier pace.\nWalkers/Hikers start at 8:00 on a short course of around 4 miles.  \n\nPrint Map Download the PDF\n \n\nFrom the archives: Last time we ran this course was December 8\, 2024
URL:https://sundayruns.org/run/trailside-to-tower-12-2025/
LOCATION:Trailside Museum\, Reservation Road\, Pound Ridge\, NY\, 10576\, United States
CATEGORIES:Runs
ATTACH;FMTTYPE=image/jpeg:https://sundayruns.org/wp-content/uploads/2020/07/trailside_museum2.jpg
ORGANIZER;CN="Sunday Runs":MAILTO:info@sundayruns.org
END:VEVENT
BEGIN:VEVENT
DTSTART;TZID=America/New_York:20251209T053000
DTEND;TZID=America/New_York:20251209T070000
DTSTAMP:20260425T100742
CREATED:20230529T143510Z
LAST-MODIFIED:20250827T130340Z
UID:33164-1765258200-1765263600@sundayruns.org
SUMMARY:Trail Tuesday
DESCRIPTION:Looking for a mid-week run? Meet at Ward Pound Ridge Reservation\, Michigan Road Lot\, on Tuesdays at 5:30 a.m. for a run finishing up between 7:00 and 7:30. It’s a great way to get your run in early.
URL:https://sundayruns.org/run/trail-tuesday-2-2025-09-16-2025-12-09/
LOCATION:Ward Pound Ridge Reservation\, Michigan Road Lot\, Michigan Road\, Pound Ridge\, NY\, 10576\, United States
CATEGORIES:Runs
ATTACH;FMTTYPE=image/jpeg:https://sundayruns.org/wp-content/uploads/2021/10/TrailTuesday2022.jpg
ORGANIZER;CN="Sunday Runs":MAILTO:info@sundayruns.org
END:VEVENT
BEGIN:VEVENT
DTSTART;TZID=America/New_York:20251210T053000
DTEND;TZID=America/New_York:20251210T070000
DTSTAMP:20260425T100742
CREATED:20250608T163914Z
LAST-MODIFIED:20250608T163914Z
UID:33150-1765344600-1765350000@sundayruns.org
SUMMARY:Workout Wednesday—Kimberly Bridge
DESCRIPTION:Are you looking to amp up your running? Add hill repeats and speed work on Wednesdays at 5:30 a.m. This week\, meet at Ward Pound Ridge Reservation\, Kimberly Bridge Lot\, at 5:30 a.m.\, for 90 minutes of Hill Repeats. At a 13% average incline\, the Blue Hill segment is one of the steepest in the Rez and the perfect training ground for any upcoming race. The .6 mile uphill contains just over 400 feet of vertical gain while the downhill is a great quad-shredding exercise. If you need to train with poles\, this is a good course to do so. We’ll aim for 4 or 5 repeats and see what we have left after that.
URL:https://sundayruns.org/run/workout-wednesday-trailside-museum-2025-2025-07-02-2025-09-03-2025-12-10/
LOCATION:Ward Pound Ridge Reservation\, Kimberly Bridge\, Reservation Road\, Pound Ridge\, NY\, 10576\, United States
CATEGORIES:Runs
ATTACH;FMTTYPE=image/jpeg:https://sundayruns.org/wp-content/uploads/2022/12/workout-wednesday.jpg
ORGANIZER;CN="Sunday Runs":MAILTO:info@sundayruns.org
END:VEVENT
BEGIN:VEVENT
DTSTART;TZID=America/New_York:20251211T053000
DTEND;TZID=America/New_York:20251211T070000
DTSTAMP:20260425T100742
CREATED:20211015T175155Z
LAST-MODIFIED:20250205T140933Z
UID:31360-1765431000-1765436400@sundayruns.org
SUMMARY:Trail Thursday
DESCRIPTION:Looking for a mid-week run? Meet at Ward Pound Ridge Reservation\, Michigan Road Lot\, on Thursdays at 5:30 a.m. for a run finishing up at 7:00.
URL:https://sundayruns.org/run/trail-thursday-2022-2022-09-22-2023-11-23-2025-12-11/
LOCATION:Ward Pound Ridge Reservation\, Michigan Road Lot\, Michigan Road\, Pound Ridge\, NY\, 10576\, United States
CATEGORIES:Runs
ATTACH;FMTTYPE=image/jpeg:https://sundayruns.org/wp-content/uploads/2021/10/TrailThursday2022.jpg
ORGANIZER;CN="Sunday Runs":MAILTO:info@sundayruns.org
END:VEVENT
BEGIN:VEVENT
DTSTART;TZID=America/New_York:20251213T070000
DTEND;TZID=America/New_York:20251213T090000
DTSTAMP:20260425T100742
CREATED:20251208T130617Z
LAST-MODIFIED:20251208T130617Z
UID:33633-1765609200-1765616400@sundayruns.org
SUMMARY:Dancing Rockish Run
DESCRIPTION:On Saturday\, December 13\, at 7:00 a.m.\, meet at Ward Pound Ridge Reservation\, Michigan Road Lot\, ready to run the Dancing Rockish run. This version follows much of the old Dancing Rock route while staying on all trails.  Early Risers start at 6:00 for a few extra miles.  \n\nPrint Map Download the PDF\n \nFrom the archives: a previous running of the course on December 21\, 2024
URL:https://sundayruns.org/run/dancing-rockish-run-12-13-2025/
LOCATION:Ward Pound Ridge Reservation\, Michigan Road Lot\, Michigan Road\, Pound Ridge\, NY\, 10576\, United States
CATEGORIES:Runs
ATTACH;FMTTYPE=image/jpeg:https://sundayruns.org/wp-content/uploads/2020/11/dancing-rockish.jpg
ORGANIZER;CN="Sunday Runs":MAILTO:info@sundayruns.org
END:VEVENT
BEGIN:VEVENT
DTSTART;TZID=America/New_York:20251214T080000
DTEND;TZID=America/New_York:20251214T090000
DTSTAMP:20260425T100742
CREATED:20251210T203647Z
LAST-MODIFIED:20251210T203647Z
UID:33637-1765699200-1765702800@sundayruns.org
SUMMARY:Rockish Dancing
DESCRIPTION:On Sunday\, December 14\, at 8:00 a.m.\, meet at Ward Pound Ridge Reservation\, Michigan Road Lot\, ready to run the Rockish Dancing run. This follows much of the old Dancing Rock route but we’re going to run the course in reverse as shown by the arrows. Next week is our annual Dancing Rock/Dancing Rock Ultra so this is your chance to check out the course in advance. Only a handful of men have finished the ultra and no woman has yet to complete the course. Cobweb Crew stars at 5:00; Early Risers start at 6:00 for a few extra miles.  \nRookie Runners start at 7:00 for a shorter course and easier pace.Walkers/Hikers start at 8:00 on a short course of around 4 miles. \n\nPrint Map Download the PDF
URL:https://sundayruns.org/run/rockish-dancing-2025/
LOCATION:Ward Pound Ridge Reservation\, Michigan Road Lot\, Michigan Road\, Pound Ridge\, NY\, 10576\, United States
CATEGORIES:Runs
ATTACH;FMTTYPE=image/jpeg:https://sundayruns.org/wp-content/uploads/2020/05/michigan_road_general.jpg
ORGANIZER;CN="Sunday Runs":MAILTO:info@sundayruns.org
END:VEVENT
BEGIN:VEVENT
DTSTART;TZID=America/New_York:20251216T053000
DTEND;TZID=America/New_York:20251216T070000
DTSTAMP:20260425T100742
CREATED:20230529T143510Z
LAST-MODIFIED:20250827T130340Z
UID:33165-1765863000-1765868400@sundayruns.org
SUMMARY:Trail Tuesday
DESCRIPTION:Looking for a mid-week run? Meet at Ward Pound Ridge Reservation\, Michigan Road Lot\, on Tuesdays at 5:30 a.m. for a run finishing up between 7:00 and 7:30. It’s a great way to get your run in early.
URL:https://sundayruns.org/run/trail-tuesday-2-2025-09-16-2025-12-16/
LOCATION:Ward Pound Ridge Reservation\, Michigan Road Lot\, Michigan Road\, Pound Ridge\, NY\, 10576\, United States
CATEGORIES:Runs
ATTACH;FMTTYPE=image/jpeg:https://sundayruns.org/wp-content/uploads/2021/10/TrailTuesday2022.jpg
ORGANIZER;CN="Sunday Runs":MAILTO:info@sundayruns.org
END:VEVENT
BEGIN:VEVENT
DTSTART;TZID=America/New_York:20251218T053000
DTEND;TZID=America/New_York:20251218T070000
DTSTAMP:20260425T100742
CREATED:20211015T175155Z
LAST-MODIFIED:20250205T140933Z
UID:31361-1766035800-1766041200@sundayruns.org
SUMMARY:Trail Thursday
DESCRIPTION:Looking for a mid-week run? Meet at Ward Pound Ridge Reservation\, Michigan Road Lot\, on Thursdays at 5:30 a.m. for a run finishing up at 7:00.
URL:https://sundayruns.org/run/trail-thursday-2022-2022-09-22-2023-11-23-2025-12-18/
LOCATION:Ward Pound Ridge Reservation\, Michigan Road Lot\, Michigan Road\, Pound Ridge\, NY\, 10576\, United States
CATEGORIES:Runs
ATTACH;FMTTYPE=image/jpeg:https://sundayruns.org/wp-content/uploads/2021/10/TrailThursday2022.jpg
ORGANIZER;CN="Sunday Runs":MAILTO:info@sundayruns.org
END:VEVENT
BEGIN:VEVENT
DTSTART;TZID=America/New_York:20251218T190000
DTEND;TZID=America/New_York:20251218T220000
DTSTAMP:20260425T100742
CREATED:20251029T182441Z
LAST-MODIFIED:20251029T182441Z
UID:33460-1766084400-1766095200@sundayruns.org
SUMMARY:Holiday Party 2025
DESCRIPTION:Join the Sunday Runners on a Special Thursday Night at a Holiday Party\nTHURSDAY\, DECEMBER 18\, 7:00 p.m. \n$10 before the event or cash at the door gets you drinks\, decorations\, and great conversation. We’ll have space inside and outside the nature center so you’ll have plenty of room to hang out. \nBring a dish to share. \nPayment can be made via Venmo to davemanndavemann
URL:https://sundayruns.org/run/holiday-party-2025/
LOCATION:Westmoreland Sanctuary\, 260 Chestnut Ridge Rd\, Mt. Kisco\, NY\, 10549\, United States
ATTACH;FMTTYPE=image/jpeg:https://sundayruns.org/wp-content/uploads/2024/11/HolidayParty_Evergreen.jpg
ORGANIZER;CN="Sunday Runs":MAILTO:info@sundayruns.org
END:VEVENT
BEGIN:VEVENT
DTSTART;TZID=America/New_York:20251220T070000
DTEND;TZID=America/New_York:20251220T090000
DTSTAMP:20260425T100742
CREATED:20251203T230546Z
LAST-MODIFIED:20251203T230623Z
UID:33626-1766214000-1766221200@sundayruns.org
SUMMARY:Dancing Rockish Run
DESCRIPTION:On Saturday\, December 20\, at 7:00 a.m.\, meet at Ward Pound Ridge Reservation\, Michigan Road Lot\, ready to run the Dancing Rockish run. This version follows much of the old Dancing Rock route while staying on all trails.  Early Risers start at 6:00 for a few extra miles.  \n\nPrint Map Download the PDF\n \nFrom the archives: a previous running of the course on December 21\, 2024
URL:https://sundayruns.org/run/dancing-rockish-run-12-2025/
LOCATION:Ward Pound Ridge Reservation\, Michigan Road Lot\, Michigan Road\, Pound Ridge\, NY\, 10576\, United States
CATEGORIES:Runs
ATTACH;FMTTYPE=image/jpeg:https://sundayruns.org/wp-content/uploads/2020/11/dancing-rockish.jpg
ORGANIZER;CN="Sunday Runs":MAILTO:info@sundayruns.org
END:VEVENT
BEGIN:VEVENT
DTSTART;TZID=America/New_York:20251221T050000
DTEND;TZID=America/New_York:20251221T120000
DTSTAMP:20260425T100742
CREATED:20251203T225926Z
LAST-MODIFIED:20251203T230109Z
UID:33622-1766293200-1766318400@sundayruns.org
SUMMARY:Dancing Rock 50k
DESCRIPTION:On Sunday\, December 21\, at 5:00 a.m.\, get ready to run a very special course—The Dancing Rock Run and Dancing Rock 50k. This course revives a race created by Tony Godino and Dave Cope around the time the Loop was invented but adds a whole lot more. 50k runners will first complete a perimeter loop\, then run the Dancing Rock 12.5k forwards\, then backward\, and follow up with the marked loop of Green+. The 12.5k “classic” starts at 8:00 and makes one loop of the course. Or make it a double for a 25k run. classic Dancing Rock Run 7.8 miler. \nStage 1: Perimeter Loop Starts Promptly at 5:00 a.m. \nComplete perimeter loop as shown on the map\, approximately 12 miles\, and return to your vehicle which will serve as your aid station. You do not need to wait for the main group—continue onto stage 2 when you’re ready. Everyone is responsible for their own aid at their vehicles. Note that the perimeter loop will be counterclockwise this year. \nStage 2: Start the Dancing Rock 12.5k course clockwise.\nRun the Dancing Rock 12.5k Course. Legacy GPX and Legacy KML files for this section are posted to help you navigate. I will drop a book at Dancing Rock on the morning of the run. Runners\, tear out the next page in the book as proof you’ve made it to that point and bring it to me or send a photo.  \nStage 3: Reverse direction on the Dancing Rock 12.5k course\nRun the Classic Dancing Rock Course in the reverse direction following all flags and bushwhack. Tear a second page from the book at Raven Rocks \nStage 4: Complete the final loop\nComplete the final loop of the course heading up Green and around\, finally ending through the swamp trail. \nThis is not a race. There are no prizes. The winner only gets bragging rights ad some great memories. Bring a change of clothes to keep warm and hang out after the run anyway. Note: the trail near Michigan Road (often called the “Swamp Trail”) now passable. You’ll get your shoes wet and muddy\, but that trail earns its name.  \nYou can view and print the Classic 12k map here ›› \n\nPrint 2024 Map Download 2024 PDF Print Legacy Map Legacy PDF Legacy KML File Legacy GPX File
URL:https://sundayruns.org/run/dancing-rock-50k-2025/
LOCATION:Ward Pound Ridge Reservation\, Michigan Road Lot\, Michigan Road\, Pound Ridge\, NY\, 10576\, United States
CATEGORIES:Races,Runs
ATTACH;FMTTYPE=image/jpeg:https://sundayruns.org/wp-content/uploads/2019/03/dancingrock2.jpg
ORGANIZER;CN="Sunday Runs":MAILTO:info@sundayruns.org
END:VEVENT
BEGIN:VEVENT
DTSTART;TZID=America/New_York:20251221T080000
DTEND;TZID=America/New_York:20251221T100000
DTSTAMP:20260425T100742
CREATED:20251203T230306Z
LAST-MODIFIED:20251219T190007Z
UID:33624-1766304000-1766311200@sundayruns.org
SUMMARY:Dancing Rock 12.5k / 25k
DESCRIPTION:On Sunday\, December 21\, at 8:00 a.m.\, get ready to run a very special course—The Dancing Rock Run. This course revives a race created by Tony Godino and Dave Cope around the time the Loop was invented over 30 years ago. Originally\, racers would complete one clockwise loop followed by a counterclockwise loop for a total distance of 25k. No one really knows why the race never caught on but it’s an awesome course. Start at 8:00 a.m. and complete one 12.5k loop (the 8 mile orange loop in the map) or make it a double for a 25k run. Note: the trail near Michigan Road (often called the “Swamp Trail”) is passable. You might get your shoes wet and muddy though.  \n\nRookie Runners start at 7:00 for a shorter course and an easier pace. I am not planning on running this Sunday but I’m sure others will be happy to. Walkers/Hikers start at 8:00 on a short course of around 4 miles. \n\nPrint 2024 Map 2024 PDF Print Legacy Map Legacy PDF Legacy KML File Legacy GPX File
URL:https://sundayruns.org/run/dancing-rock-12k-25k-2025/
LOCATION:Ward Pound Ridge Reservation\, Michigan Road Lot\, Michigan Road\, Pound Ridge\, NY\, 10576\, United States
CATEGORIES:Races,Runs
ATTACH;FMTTYPE=image/jpeg:https://sundayruns.org/wp-content/uploads/2019/03/dancingrock2.jpg
ORGANIZER;CN="Sunday Runs":MAILTO:info@sundayruns.org
END:VEVENT
BEGIN:VEVENT
DTSTART;TZID=America/New_York:20251223T053000
DTEND;TZID=America/New_York:20251223T070000
DTSTAMP:20260425T100742
CREATED:20230529T143510Z
LAST-MODIFIED:20250827T130340Z
UID:33166-1766467800-1766473200@sundayruns.org
SUMMARY:Trail Tuesday
DESCRIPTION:Looking for a mid-week run? Meet at Ward Pound Ridge Reservation\, Michigan Road Lot\, on Tuesdays at 5:30 a.m. for a run finishing up between 7:00 and 7:30. It’s a great way to get your run in early.
URL:https://sundayruns.org/run/trail-tuesday-2-2025-09-16-2025-12-23/
LOCATION:Ward Pound Ridge Reservation\, Michigan Road Lot\, Michigan Road\, Pound Ridge\, NY\, 10576\, United States
CATEGORIES:Runs
ATTACH;FMTTYPE=image/jpeg:https://sundayruns.org/wp-content/uploads/2021/10/TrailTuesday2022.jpg
ORGANIZER;CN="Sunday Runs":MAILTO:info@sundayruns.org
END:VEVENT
BEGIN:VEVENT
DTSTART;TZID=America/New_York:20251224T053000
DTEND;TZID=America/New_York:20251224T070000
DTSTAMP:20260425T100742
CREATED:20251221T195030Z
LAST-MODIFIED:20251223T191645Z
UID:33654-1766554200-1766559600@sundayruns.org
SUMMARY:Running of the Red and Green
DESCRIPTION:On Wednesday\, December 24\, at 5:30 a.m.\, meet at Ward Pound Ridge Reservation\, Michigan Road Lot\, for a special running of the Red and Green (trails). Head up the Green trail first\, then over to Red and enjoy the sunrise from Raven Rocks. The map shows a bushwhack on an old trail but I’d suggest taking a left at 17 onto Blue and following the course from there. \n\nPrint Map Download the PDF KML File GPX File
URL:https://sundayruns.org/run/red-and-green-2025/
LOCATION:Ward Pound Ridge Reservation\, Michigan Road Lot\, Michigan Road\, Pound Ridge\, NY\, 10576\, United States
CATEGORIES:Runs
ATTACH;FMTTYPE=image/jpeg:https://sundayruns.org/wp-content/uploads/2020/03/meadow.jpg
ORGANIZER;CN="Sunday Runs":MAILTO:info@sundayruns.org
END:VEVENT
BEGIN:VEVENT
DTSTART;TZID=America/New_York:20251225T053000
DTEND;TZID=America/New_York:20251225T070000
DTSTAMP:20260425T100742
CREATED:20211015T175155Z
LAST-MODIFIED:20250205T140933Z
UID:31362-1766640600-1766646000@sundayruns.org
SUMMARY:Trail Thursday
DESCRIPTION:Looking for a mid-week run? Meet at Ward Pound Ridge Reservation\, Michigan Road Lot\, on Thursdays at 5:30 a.m. for a run finishing up at 7:00.
URL:https://sundayruns.org/run/trail-thursday-2022-2022-09-22-2023-11-23-2025-12-25/
LOCATION:Ward Pound Ridge Reservation\, Michigan Road Lot\, Michigan Road\, Pound Ridge\, NY\, 10576\, United States
CATEGORIES:Runs
ATTACH;FMTTYPE=image/jpeg:https://sundayruns.org/wp-content/uploads/2021/10/TrailThursday2022.jpg
ORGANIZER;CN="Sunday Runs":MAILTO:info@sundayruns.org
END:VEVENT
BEGIN:VEVENT
DTSTART;TZID=America/New_York:20251226T073000
DTEND;TZID=America/New_York:20251226T110000
DTSTAMP:20260425T100742
CREATED:20251212T213231Z
LAST-MODIFIED:20251225T191933Z
UID:33641-1766734200-1766746800@sundayruns.org
SUMMARY:Boxing Day Run
DESCRIPTION:On Friday\, December 26\, at 7:30 a.m.\, meet at the Hessian Lake Parking Lot\, Harriman State Mark\, near the ice rink at Bear Mountain and come prepared to run a special 9-mile loop on parts of the North Face Endurance Challenge course. Depending on conditions\, it might be longer. No worries\, the group will keep together sharing holiday cheer up and down the trails. More details to come and you can see the planned route here. If you’re looking to stay closer to home\, I’d suggest meeting at Michigan Road Lot at 7:00 a.m. and running the Michigan to Kimberly v3 loop but bring your own maps.
URL:https://sundayruns.org/run/boxing-day-run-2025/
LOCATION:Bear Mountain\, Hessian Lake Parking\, 10911\, 55 Hessian Drive\, Tomkins Cove\, NY\, 10986\, United States
CATEGORIES:Runs
ATTACH;FMTTYPE=image/jpeg:https://sundayruns.org/wp-content/uploads/2022/12/boxingDay.jpg
END:VEVENT
BEGIN:VEVENT
DTSTART;TZID=America/New_York:20251227T070000
DTEND;TZID=America/New_York:20251227T090000
DTSTAMP:20260425T100742
CREATED:20251222T222702Z
LAST-MODIFIED:20251222T223133Z
UID:33658-1766818800-1766826000@sundayruns.org
SUMMARY:Trailside\, Raven\, to Tower
DESCRIPTION:On Saturday\, December 27\, at 7:00 a.m.\, meet at Ward Pound Ridge Reservation\, Trailside Nature Museum Lot\, ready to run the Trailside\, Raven to Tower loop. We’ll all head up everyone’s favorite way to start a run—The Fox Hill climb—and then take some of the less-traveled trails from Michigan Road. Options include 4.5\, 6\, or 7 mile distances and if you’re looking for something longer\, continue around Blue to add even more. Early Risers start at 6:00 a.m.  \nPrint Map Download the PDF\n \nThe last time we ran this course was February 16\, 2025
URL:https://sundayruns.org/run/trailside-raven-to-tower-12-2025/
LOCATION:Trailside Museum\, Reservation Road\, Pound Ridge\, NY\, 10576\, United States
CATEGORIES:Runs
ATTACH;FMTTYPE=image/jpeg:https://sundayruns.org/wp-content/uploads/2020/04/trailside_museum.jpg
ORGANIZER;CN="Sunday Runs":MAILTO:info@sundayruns.org
END:VEVENT
BEGIN:VEVENT
DTSTART;TZID=America/New_York:20251228T080000
DTEND;TZID=America/New_York:20251228T100000
DTSTAMP:20260425T100742
CREATED:20251221T195432Z
LAST-MODIFIED:20251221T195432Z
UID:33656-1766908800-1766916000@sundayruns.org
SUMMARY:Museum to Blue 2
DESCRIPTION:On Sunday\, December 28\, at 8:00 a.m.\, meet at Ward Pound Ridge Reservation\, Trailside Museum\, when we run the Museum to Blue route. We’ll run this in a counterclockwise direction heading out on the Orange Trail first. Cobweb Crew starts at 5:00 a.m.; Early Risers at 7:00 a.m. \nRookie Runners start at 7:00 a.m. for a shorter course and easier pace.\nWalkers/Hikers start at 8:00 for a short loop. \n\nPrint Map
URL:https://sundayruns.org/run/museum-to-blue-2-12-2025/
LOCATION:Trailside Museum\, Reservation Road\, Pound Ridge\, NY\, 10576\, United States
CATEGORIES:Runs
ATTACH;FMTTYPE=image/jpeg:https://sundayruns.org/wp-content/uploads/2020/07/trailside_museum2.jpg
ORGANIZER;CN="Sunday Runs":MAILTO:info@sundayruns.org
END:VEVENT
BEGIN:VEVENT
DTSTART;TZID=America/New_York:20251230T053000
DTEND;TZID=America/New_York:20251230T070000
DTSTAMP:20260425T100742
CREATED:20230529T143510Z
LAST-MODIFIED:20250827T130340Z
UID:33167-1767072600-1767078000@sundayruns.org
SUMMARY:Trail Tuesday
DESCRIPTION:Looking for a mid-week run? Meet at Ward Pound Ridge Reservation\, Michigan Road Lot\, on Tuesdays at 5:30 a.m. for a run finishing up between 7:00 and 7:30. It’s a great way to get your run in early.
URL:https://sundayruns.org/run/trail-tuesday-2-2025-09-16-2025-12-30/
LOCATION:Ward Pound Ridge Reservation\, Michigan Road Lot\, Michigan Road\, Pound Ridge\, NY\, 10576\, United States
CATEGORIES:Runs
ATTACH;FMTTYPE=image/jpeg:https://sundayruns.org/wp-content/uploads/2021/10/TrailTuesday2022.jpg
ORGANIZER;CN="Sunday Runs":MAILTO:info@sundayruns.org
END:VEVENT
END:VCALENDAR