BEGIN:VCALENDAR
VERSION:2.0
PRODID:-//Sunday Runs with the Leatherman Harriers - ECPv6.15.13//NONSGML v1.0//EN
CALSCALE:GREGORIAN
METHOD:PUBLISH
X-WR-CALNAME:Sunday Runs with the Leatherman Harriers
X-ORIGINAL-URL:https://sundayruns.org
X-WR-CALDESC:Events for Sunday Runs with the Leatherman Harriers
REFRESH-INTERVAL;VALUE=DURATION:PT1H
X-Robots-Tag:noindex
X-PUBLISHED-TTL:PT1H
BEGIN:VTIMEZONE
TZID:America/New_York
BEGIN:DAYLIGHT
TZOFFSETFROM:-0500
TZOFFSETTO:-0400
TZNAME:EDT
DTSTART:20250309T070000
END:DAYLIGHT
BEGIN:STANDARD
TZOFFSETFROM:-0400
TZOFFSETTO:-0500
TZNAME:EST
DTSTART:20251102T060000
END:STANDARD
BEGIN:DAYLIGHT
TZOFFSETFROM:-0500
TZOFFSETTO:-0400
TZNAME:EDT
DTSTART:20260308T070000
END:DAYLIGHT
BEGIN:STANDARD
TZOFFSETFROM:-0400
TZOFFSETTO:-0500
TZNAME:EST
DTSTART:20261101T060000
END:STANDARD
BEGIN:DAYLIGHT
TZOFFSETFROM:-0500
TZOFFSETTO:-0400
TZNAME:EDT
DTSTART:20270314T070000
END:DAYLIGHT
BEGIN:STANDARD
TZOFFSETFROM:-0400
TZOFFSETTO:-0500
TZNAME:EST
DTSTART:20271107T060000
END:STANDARD
END:VTIMEZONE
BEGIN:VEVENT
DTSTART;TZID=America/New_York:20260804T053000
DTEND;TZID=America/New_York:20260804T070000
DTSTAMP:20260425T100733
CREATED:20230529T143510Z
LAST-MODIFIED:20230529T143510Z
UID:30568-1785821400-1785826800@sundayruns.org
SUMMARY:Trail Tuesday
DESCRIPTION:Looking for a mid-week run? Meet at Ward Pound Ridge Reservation\, Michigan Road Lot\, on Tuesdays at 5:30 a.m. for a run finishing up between 7:00 and 7:30. It’s a great way to get your run in early.
URL:https://sundayruns.org/run/trail-tuesday-2-2026-08-04/
LOCATION:Ward Pound Ridge Reservation\, Michigan Road Lot\, Michigan Road\, Pound Ridge\, NY\, 10576\, United States
CATEGORIES:Runs
ATTACH;FMTTYPE=image/jpeg:https://sundayruns.org/wp-content/uploads/2021/10/TrailTuesday2022.jpg
ORGANIZER;CN="Sunday Runs":MAILTO:info@sundayruns.org
END:VEVENT
BEGIN:VEVENT
DTSTART;TZID=America/New_York:20260806T053000
DTEND;TZID=America/New_York:20260806T070000
DTSTAMP:20260425T100733
CREATED:20211015T175155Z
LAST-MODIFIED:20250205T140946Z
UID:30583-1785994200-1785999600@sundayruns.org
SUMMARY:Trail Thursday
DESCRIPTION:Looking for a mid-week run? Meet at Ward Pound Ridge Reservation\, Michigan Road Lot\, on Thursdays at 5:30 a.m. for a run finishing up at 7:00.
URL:https://sundayruns.org/run/trail-thursday-2022-2022-09-22-2023-11-23-2026-08-06/
LOCATION:Ward Pound Ridge Reservation\, Michigan Road Lot\, Michigan Road\, Pound Ridge\, NY\, 10576\, United States
CATEGORIES:Runs
ATTACH;FMTTYPE=image/jpeg:https://sundayruns.org/wp-content/uploads/2021/10/TrailThursday2022.jpg
ORGANIZER;CN="Sunday Runs":MAILTO:info@sundayruns.org
END:VEVENT
BEGIN:VEVENT
DTSTART;TZID=America/New_York:20260811T053000
DTEND;TZID=America/New_York:20260811T070000
DTSTAMP:20260425T100733
CREATED:20230529T143510Z
LAST-MODIFIED:20230529T143510Z
UID:30606-1786426200-1786431600@sundayruns.org
SUMMARY:Trail Tuesday
DESCRIPTION:Looking for a mid-week run? Meet at Ward Pound Ridge Reservation\, Michigan Road Lot\, on Tuesdays at 5:30 a.m. for a run finishing up between 7:00 and 7:30. It’s a great way to get your run in early.
URL:https://sundayruns.org/run/trail-tuesday-2-2026-08-11/
LOCATION:Ward Pound Ridge Reservation\, Michigan Road Lot\, Michigan Road\, Pound Ridge\, NY\, 10576\, United States
CATEGORIES:Runs
ATTACH;FMTTYPE=image/jpeg:https://sundayruns.org/wp-content/uploads/2021/10/TrailTuesday2022.jpg
ORGANIZER;CN="Sunday Runs":MAILTO:info@sundayruns.org
END:VEVENT
BEGIN:VEVENT
DTSTART;TZID=America/New_York:20260813T053000
DTEND;TZID=America/New_York:20260813T070000
DTSTAMP:20260425T100733
CREATED:20211015T175155Z
LAST-MODIFIED:20250205T140946Z
UID:30607-1786599000-1786604400@sundayruns.org
SUMMARY:Trail Thursday
DESCRIPTION:Looking for a mid-week run? Meet at Ward Pound Ridge Reservation\, Michigan Road Lot\, on Thursdays at 5:30 a.m. for a run finishing up at 7:00.
URL:https://sundayruns.org/run/trail-thursday-2022-2022-09-22-2023-11-23-2026-08-13/
LOCATION:Ward Pound Ridge Reservation\, Michigan Road Lot\, Michigan Road\, Pound Ridge\, NY\, 10576\, United States
CATEGORIES:Runs
ATTACH;FMTTYPE=image/jpeg:https://sundayruns.org/wp-content/uploads/2021/10/TrailThursday2022.jpg
ORGANIZER;CN="Sunday Runs":MAILTO:info@sundayruns.org
END:VEVENT
BEGIN:VEVENT
DTSTART;TZID=America/New_York:20260818T053000
DTEND;TZID=America/New_York:20260818T070000
DTSTAMP:20260425T100733
CREATED:20230529T143510Z
LAST-MODIFIED:20230529T143510Z
UID:30617-1787031000-1787036400@sundayruns.org
SUMMARY:Trail Tuesday
DESCRIPTION:Looking for a mid-week run? Meet at Ward Pound Ridge Reservation\, Michigan Road Lot\, on Tuesdays at 5:30 a.m. for a run finishing up between 7:00 and 7:30. It’s a great way to get your run in early.
URL:https://sundayruns.org/run/trail-tuesday-2-2026-08-18/
LOCATION:Ward Pound Ridge Reservation\, Michigan Road Lot\, Michigan Road\, Pound Ridge\, NY\, 10576\, United States
CATEGORIES:Runs
ATTACH;FMTTYPE=image/jpeg:https://sundayruns.org/wp-content/uploads/2021/10/TrailTuesday2022.jpg
ORGANIZER;CN="Sunday Runs":MAILTO:info@sundayruns.org
END:VEVENT
BEGIN:VEVENT
DTSTART;TZID=America/New_York:20260820T053000
DTEND;TZID=America/New_York:20260820T070000
DTSTAMP:20260425T100733
CREATED:20211015T175155Z
LAST-MODIFIED:20250205T140946Z
UID:30618-1787203800-1787209200@sundayruns.org
SUMMARY:Trail Thursday
DESCRIPTION:Looking for a mid-week run? Meet at Ward Pound Ridge Reservation\, Michigan Road Lot\, on Thursdays at 5:30 a.m. for a run finishing up at 7:00.
URL:https://sundayruns.org/run/trail-thursday-2022-2022-09-22-2023-11-23-2026-08-20/
LOCATION:Ward Pound Ridge Reservation\, Michigan Road Lot\, Michigan Road\, Pound Ridge\, NY\, 10576\, United States
CATEGORIES:Runs
ATTACH;FMTTYPE=image/jpeg:https://sundayruns.org/wp-content/uploads/2021/10/TrailThursday2022.jpg
ORGANIZER;CN="Sunday Runs":MAILTO:info@sundayruns.org
END:VEVENT
BEGIN:VEVENT
DTSTART;TZID=America/New_York:20260825T053000
DTEND;TZID=America/New_York:20260825T070000
DTSTAMP:20260425T100733
CREATED:20230529T143510Z
LAST-MODIFIED:20230529T143510Z
UID:30638-1787635800-1787641200@sundayruns.org
SUMMARY:Trail Tuesday
DESCRIPTION:Looking for a mid-week run? Meet at Ward Pound Ridge Reservation\, Michigan Road Lot\, on Tuesdays at 5:30 a.m. for a run finishing up between 7:00 and 7:30. It’s a great way to get your run in early.
URL:https://sundayruns.org/run/trail-tuesday-2-2026-08-25/
LOCATION:Ward Pound Ridge Reservation\, Michigan Road Lot\, Michigan Road\, Pound Ridge\, NY\, 10576\, United States
CATEGORIES:Runs
ATTACH;FMTTYPE=image/jpeg:https://sundayruns.org/wp-content/uploads/2021/10/TrailTuesday2022.jpg
ORGANIZER;CN="Sunday Runs":MAILTO:info@sundayruns.org
END:VEVENT
BEGIN:VEVENT
DTSTART;TZID=America/New_York:20260827T053000
DTEND;TZID=America/New_York:20260827T070000
DTSTAMP:20260425T100733
CREATED:20211015T175155Z
LAST-MODIFIED:20250205T140946Z
UID:30652-1787808600-1787814000@sundayruns.org
SUMMARY:Trail Thursday
DESCRIPTION:Looking for a mid-week run? Meet at Ward Pound Ridge Reservation\, Michigan Road Lot\, on Thursdays at 5:30 a.m. for a run finishing up at 7:00.
URL:https://sundayruns.org/run/trail-thursday-2022-2022-09-22-2023-11-23-2026-08-27/
LOCATION:Ward Pound Ridge Reservation\, Michigan Road Lot\, Michigan Road\, Pound Ridge\, NY\, 10576\, United States
CATEGORIES:Runs
ATTACH;FMTTYPE=image/jpeg:https://sundayruns.org/wp-content/uploads/2021/10/TrailThursday2022.jpg
ORGANIZER;CN="Sunday Runs":MAILTO:info@sundayruns.org
END:VEVENT
END:VCALENDAR