BEGIN:VCALENDAR
VERSION:2.0
PRODID:-//Sunday Runs with the Leatherman Harriers - ECPv6.15.13//NONSGML v1.0//EN
CALSCALE:GREGORIAN
METHOD:PUBLISH
X-WR-CALNAME:Sunday Runs with the Leatherman Harriers
X-ORIGINAL-URL:https://sundayruns.org
X-WR-CALDESC:Events for Sunday Runs with the Leatherman Harriers
REFRESH-INTERVAL;VALUE=DURATION:PT1H
X-Robots-Tag:noindex
X-PUBLISHED-TTL:PT1H
BEGIN:VTIMEZONE
TZID:America/New_York
BEGIN:DAYLIGHT
TZOFFSETFROM:-0500
TZOFFSETTO:-0400
TZNAME:EDT
DTSTART:20250309T070000
END:DAYLIGHT
BEGIN:STANDARD
TZOFFSETFROM:-0400
TZOFFSETTO:-0500
TZNAME:EST
DTSTART:20251102T060000
END:STANDARD
BEGIN:DAYLIGHT
TZOFFSETFROM:-0500
TZOFFSETTO:-0400
TZNAME:EDT
DTSTART:20260308T070000
END:DAYLIGHT
BEGIN:STANDARD
TZOFFSETFROM:-0400
TZOFFSETTO:-0500
TZNAME:EST
DTSTART:20261101T060000
END:STANDARD
BEGIN:DAYLIGHT
TZOFFSETFROM:-0500
TZOFFSETTO:-0400
TZNAME:EDT
DTSTART:20270314T070000
END:DAYLIGHT
BEGIN:STANDARD
TZOFFSETFROM:-0400
TZOFFSETTO:-0500
TZNAME:EST
DTSTART:20271107T060000
END:STANDARD
END:VTIMEZONE
BEGIN:VEVENT
DTSTART;TZID=America/New_York:20261201T053000
DTEND;TZID=America/New_York:20261201T070000
DTSTAMP:20260425T165245
CREATED:20230529T143510Z
LAST-MODIFIED:20230529T143510Z
UID:33215-1796103000-1796108400@sundayruns.org
SUMMARY:Trail Tuesday
DESCRIPTION:Looking for a mid-week run? Meet at Ward Pound Ridge Reservation\, Michigan Road Lot\, on Tuesdays at 5:30 a.m. for a run finishing up between 7:00 and 7:30. It’s a great way to get your run in early.
URL:https://sundayruns.org/run/trail-tuesday-2-2025-09-16-2026-12-01/
LOCATION:Ward Pound Ridge Reservation\, Michigan Road Lot\, Michigan Road\, Pound Ridge\, NY\, 10576\, United States
CATEGORIES:Runs
ATTACH;FMTTYPE=image/jpeg:https://sundayruns.org/wp-content/uploads/2021/10/TrailTuesday2022.jpg
ORGANIZER;CN="Sunday Runs":MAILTO:info@sundayruns.org
END:VEVENT
BEGIN:VEVENT
DTSTART;TZID=America/New_York:20261203T053000
DTEND;TZID=America/New_York:20261203T070000
DTSTAMP:20260425T165245
CREATED:20211015T175155Z
LAST-MODIFIED:20250205T140951Z
UID:31214-1796275800-1796281200@sundayruns.org
SUMMARY:Trail Thursday
DESCRIPTION:Looking for a mid-week run? Meet at Ward Pound Ridge Reservation\, Michigan Road Lot\, on Thursdays at 5:30 a.m. for a run finishing up at 7:00.
URL:https://sundayruns.org/run/trail-thursday-2022-2022-09-22-2023-11-23-2026-12-03/
LOCATION:Ward Pound Ridge Reservation\, Michigan Road Lot\, Michigan Road\, Pound Ridge\, NY\, 10576\, United States
CATEGORIES:Runs
ATTACH;FMTTYPE=image/jpeg:https://sundayruns.org/wp-content/uploads/2021/10/TrailThursday2022.jpg
ORGANIZER;CN="Sunday Runs":MAILTO:info@sundayruns.org
END:VEVENT
BEGIN:VEVENT
DTSTART;TZID=America/New_York:20261208T053000
DTEND;TZID=America/New_York:20261208T070000
DTSTAMP:20260425T165245
CREATED:20230529T143510Z
LAST-MODIFIED:20230529T143510Z
UID:33216-1796707800-1796713200@sundayruns.org
SUMMARY:Trail Tuesday
DESCRIPTION:Looking for a mid-week run? Meet at Ward Pound Ridge Reservation\, Michigan Road Lot\, on Tuesdays at 5:30 a.m. for a run finishing up between 7:00 and 7:30. It’s a great way to get your run in early.
URL:https://sundayruns.org/run/trail-tuesday-2-2025-09-16-2026-12-08/
LOCATION:Ward Pound Ridge Reservation\, Michigan Road Lot\, Michigan Road\, Pound Ridge\, NY\, 10576\, United States
CATEGORIES:Runs
ATTACH;FMTTYPE=image/jpeg:https://sundayruns.org/wp-content/uploads/2021/10/TrailTuesday2022.jpg
ORGANIZER;CN="Sunday Runs":MAILTO:info@sundayruns.org
END:VEVENT
BEGIN:VEVENT
DTSTART;TZID=America/New_York:20261210T053000
DTEND;TZID=America/New_York:20261210T070000
DTSTAMP:20260425T165245
CREATED:20211015T175155Z
LAST-MODIFIED:20250205T140951Z
UID:31215-1796880600-1796886000@sundayruns.org
SUMMARY:Trail Thursday
DESCRIPTION:Looking for a mid-week run? Meet at Ward Pound Ridge Reservation\, Michigan Road Lot\, on Thursdays at 5:30 a.m. for a run finishing up at 7:00.
URL:https://sundayruns.org/run/trail-thursday-2022-2022-09-22-2023-11-23-2026-12-10/
LOCATION:Ward Pound Ridge Reservation\, Michigan Road Lot\, Michigan Road\, Pound Ridge\, NY\, 10576\, United States
CATEGORIES:Runs
ATTACH;FMTTYPE=image/jpeg:https://sundayruns.org/wp-content/uploads/2021/10/TrailThursday2022.jpg
ORGANIZER;CN="Sunday Runs":MAILTO:info@sundayruns.org
END:VEVENT
BEGIN:VEVENT
DTSTART;TZID=America/New_York:20261215T053000
DTEND;TZID=America/New_York:20261215T070000
DTSTAMP:20260425T165245
CREATED:20230529T143510Z
LAST-MODIFIED:20230529T143510Z
UID:33217-1797312600-1797318000@sundayruns.org
SUMMARY:Trail Tuesday
DESCRIPTION:Looking for a mid-week run? Meet at Ward Pound Ridge Reservation\, Michigan Road Lot\, on Tuesdays at 5:30 a.m. for a run finishing up between 7:00 and 7:30. It’s a great way to get your run in early.
URL:https://sundayruns.org/run/trail-tuesday-2-2025-09-16-2026-12-15/
LOCATION:Ward Pound Ridge Reservation\, Michigan Road Lot\, Michigan Road\, Pound Ridge\, NY\, 10576\, United States
CATEGORIES:Runs
ATTACH;FMTTYPE=image/jpeg:https://sundayruns.org/wp-content/uploads/2021/10/TrailTuesday2022.jpg
ORGANIZER;CN="Sunday Runs":MAILTO:info@sundayruns.org
END:VEVENT
BEGIN:VEVENT
DTSTART;TZID=America/New_York:20261217T053000
DTEND;TZID=America/New_York:20261217T070000
DTSTAMP:20260425T165245
CREATED:20211015T175155Z
LAST-MODIFIED:20250205T140952Z
UID:31216-1797485400-1797490800@sundayruns.org
SUMMARY:Trail Thursday
DESCRIPTION:Looking for a mid-week run? Meet at Ward Pound Ridge Reservation\, Michigan Road Lot\, on Thursdays at 5:30 a.m. for a run finishing up at 7:00.
URL:https://sundayruns.org/run/trail-thursday-2022-2022-09-22-2023-11-23-2026-12-17/
LOCATION:Ward Pound Ridge Reservation\, Michigan Road Lot\, Michigan Road\, Pound Ridge\, NY\, 10576\, United States
CATEGORIES:Runs
ATTACH;FMTTYPE=image/jpeg:https://sundayruns.org/wp-content/uploads/2021/10/TrailThursday2022.jpg
ORGANIZER;CN="Sunday Runs":MAILTO:info@sundayruns.org
END:VEVENT
BEGIN:VEVENT
DTSTART;TZID=America/New_York:20261222T053000
DTEND;TZID=America/New_York:20261222T070000
DTSTAMP:20260425T165245
CREATED:20230529T143510Z
LAST-MODIFIED:20230529T143510Z
UID:33218-1797917400-1797922800@sundayruns.org
SUMMARY:Trail Tuesday
DESCRIPTION:Looking for a mid-week run? Meet at Ward Pound Ridge Reservation\, Michigan Road Lot\, on Tuesdays at 5:30 a.m. for a run finishing up between 7:00 and 7:30. It’s a great way to get your run in early.
URL:https://sundayruns.org/run/trail-tuesday-2-2025-09-16-2026-12-22/
LOCATION:Ward Pound Ridge Reservation\, Michigan Road Lot\, Michigan Road\, Pound Ridge\, NY\, 10576\, United States
CATEGORIES:Runs
ATTACH;FMTTYPE=image/jpeg:https://sundayruns.org/wp-content/uploads/2021/10/TrailTuesday2022.jpg
ORGANIZER;CN="Sunday Runs":MAILTO:info@sundayruns.org
END:VEVENT
BEGIN:VEVENT
DTSTART;TZID=America/New_York:20261224T053000
DTEND;TZID=America/New_York:20261224T070000
DTSTAMP:20260425T165245
CREATED:20211015T175155Z
LAST-MODIFIED:20250205T140953Z
UID:31242-1798090200-1798095600@sundayruns.org
SUMMARY:Trail Thursday
DESCRIPTION:Looking for a mid-week run? Meet at Ward Pound Ridge Reservation\, Michigan Road Lot\, on Thursdays at 5:30 a.m. for a run finishing up at 7:00.
URL:https://sundayruns.org/run/trail-thursday-2022-2022-09-22-2023-11-23-2026-12-24/
LOCATION:Ward Pound Ridge Reservation\, Michigan Road Lot\, Michigan Road\, Pound Ridge\, NY\, 10576\, United States
CATEGORIES:Runs
ATTACH;FMTTYPE=image/jpeg:https://sundayruns.org/wp-content/uploads/2021/10/TrailThursday2022.jpg
ORGANIZER;CN="Sunday Runs":MAILTO:info@sundayruns.org
END:VEVENT
BEGIN:VEVENT
DTSTART;TZID=America/New_York:20261229T053000
DTEND;TZID=America/New_York:20261229T070000
DTSTAMP:20260425T165245
CREATED:20230529T143510Z
LAST-MODIFIED:20230529T143510Z
UID:33219-1798522200-1798527600@sundayruns.org
SUMMARY:Trail Tuesday
DESCRIPTION:Looking for a mid-week run? Meet at Ward Pound Ridge Reservation\, Michigan Road Lot\, on Tuesdays at 5:30 a.m. for a run finishing up between 7:00 and 7:30. It’s a great way to get your run in early.
URL:https://sundayruns.org/run/trail-tuesday-2-2025-09-16-2026-12-29/
LOCATION:Ward Pound Ridge Reservation\, Michigan Road Lot\, Michigan Road\, Pound Ridge\, NY\, 10576\, United States
CATEGORIES:Runs
ATTACH;FMTTYPE=image/jpeg:https://sundayruns.org/wp-content/uploads/2021/10/TrailTuesday2022.jpg
ORGANIZER;CN="Sunday Runs":MAILTO:info@sundayruns.org
END:VEVENT
BEGIN:VEVENT
DTSTART;TZID=America/New_York:20261231T053000
DTEND;TZID=America/New_York:20261231T070000
DTSTAMP:20260425T165245
CREATED:20211015T175155Z
LAST-MODIFIED:20250205T140953Z
UID:31256-1798695000-1798700400@sundayruns.org
SUMMARY:Trail Thursday
DESCRIPTION:Looking for a mid-week run? Meet at Ward Pound Ridge Reservation\, Michigan Road Lot\, on Thursdays at 5:30 a.m. for a run finishing up at 7:00.
URL:https://sundayruns.org/run/trail-thursday-2022-2022-09-22-2023-11-23-2026-12-31/
LOCATION:Ward Pound Ridge Reservation\, Michigan Road Lot\, Michigan Road\, Pound Ridge\, NY\, 10576\, United States
CATEGORIES:Runs
ATTACH;FMTTYPE=image/jpeg:https://sundayruns.org/wp-content/uploads/2021/10/TrailThursday2022.jpg
ORGANIZER;CN="Sunday Runs":MAILTO:info@sundayruns.org
END:VEVENT
END:VCALENDAR